BEGIN:VCALENDAR
VERSION:2.0
PRODID:-//wp-events-plugin.com//7.2.2.1//EN
TZID:America/Los_Angeles
X-WR-TIMEZONE:America/Los_Angeles
BEGIN:VEVENT
UID:3442@uucpa.org
DTSTART;TZID=America/Los_Angeles;VALUE=DATE:20190401
DTEND;TZID=America/Los_Angeles;VALUE=DATE:20190501
DTSTAMP:20190202T173509Z
URL:https://www.uucpa.org/events/justice-partner-acterra/
SUMMARY:Justice Partner - Acterra
DESCRIPTION:Justice Partner - Acterra  The Justice Partner for April is Act
 erra.\n\nActerra is an organization based in Palo Alto that brings people 
 together to create local solutions for a healthy planet. Current projects 
 serve everyone on the Peninsula through ride &amp\; drive events\, green a
 t home programs\,  local environment restoration and maintenance\, green 
 business awards programs\, lecture series\, and other actions. https://ww
 w.acterra.org/ 
CATEGORIES:Justice,Justice Partner
END:VEVENT
BEGIN:VTIMEZONE
TZID:America/Los_Angeles
X-LIC-LOCATION:America/Los_Angeles
BEGIN:DAYLIGHT
DTSTART:20190310T030000
TZOFFSETFROM:-0800
TZOFFSETTO:-0700
TZNAME:PDT
END:DAYLIGHT
END:VTIMEZONE
END:VCALENDAR