BEGIN:VCALENDAR
VERSION:2.0
PRODID:-//wp-events-plugin.com//7.2.2.1//EN
TZID:America/Los_Angeles
X-WR-TIMEZONE:America/Los_Angeles
BEGIN:VEVENT
UID:14493@uucpa.org
DTSTART;TZID=America/Los_Angeles;VALUE=DATE:20240701
DTEND;TZID=America/Los_Angeles;VALUE=DATE:20240801
DTSTAMP:20240505T024548Z
URL:https://www.uucpa.org/events/justice-partner-american-muslim-voice-amv
 -7/
SUMMARY:Justice Partner - American Muslim Voice (AMV)
DESCRIPTION:Justice Partner - American Muslim Voice (AMV)  The Justice Part
 ner for July is American Muslim Voice (AMV).\n\nAMV is local grassroots\, 
 nonviolent\, inclusive\, civil\, immigrant and human rights organization. 
 AMV hosts open houses\, peace picnics and peace conventions annually to un
 ite neighbors and strangers alike\, including the popular EID celebrations
 .  They also provide the Muslim perspective through teach-in opportunitie
 s at schools\, colleges\, universities\, places of worship\, and peace con
 ventions.  Website: https://www.amuslimvoice.org/. 
CATEGORIES:Justice,Justice Partner
END:VEVENT
BEGIN:VTIMEZONE
TZID:America/Los_Angeles
X-LIC-LOCATION:America/Los_Angeles
BEGIN:DAYLIGHT
DTSTART:20240310T030000
TZOFFSETFROM:-0800
TZOFFSETTO:-0700
TZNAME:PDT
END:DAYLIGHT
END:VTIMEZONE
END:VCALENDAR