BEGIN:VCALENDAR
VERSION:2.0
PRODID:-//wp-events-plugin.com//7.2.2.1//EN
TZID:America/Los_Angeles
X-WR-TIMEZONE:America/Los_Angeles
BEGIN:VEVENT
UID:10847@uucpa.org
DTSTART;TZID=America/Los_Angeles;VALUE=DATE:20230201
DTEND;TZID=America/Los_Angeles;VALUE=DATE:20230301
DTSTAMP:20220430T160845Z
URL:https://www.uucpa.org/events/justice-partner-california-interfaith-pow
 er-and-light-3/
SUMMARY:Justice Partner - California Interfaith Power and Light
DESCRIPTION:Justice Partner - California Interfaith Power and Light  The Ju
 stice Partner for February is California Interfaith Power and Light\n\nCIP
 L serves congregations and institutions of many faiths that are committed 
 to working together to protect our common home\, the Earth.  They provide
  guides and educational programs for energy efficiency\, solar installatio
 ns\, electric vehicles\, water saving\, etc. From time to time they engage
  in advocacy.  UUCPA is one of over 600 member congregations.\n\nWebsite:
  https://www.interfaithpower.org/ 
CATEGORIES:Justice,Justice Partner
END:VEVENT
BEGIN:VTIMEZONE
TZID:America/Los_Angeles
X-LIC-LOCATION:America/Los_Angeles
BEGIN:STANDARD
DTSTART:20221106T010000
TZOFFSETFROM:-0700
TZOFFSETTO:-0800
TZNAME:PST
END:STANDARD
END:VTIMEZONE
END:VCALENDAR