BEGIN:VCALENDAR
VERSION:2.0
PRODID:-//wp-events-plugin.com//7.2.2.1//EN
TZID:America/Los_Angeles
X-WR-TIMEZONE:America/Los_Angeles
BEGIN:VEVENT
UID:3439@uucpa.org
DTSTART;TZID=America/Los_Angeles;VALUE=DATE:20190101
DTEND;TZID=America/Los_Angeles;VALUE=DATE:20190201
DTSTAMP:20190202T173046Z
URL:https://www.uucpa.org/events/justice-partner-parents-helping-parents/
SUMMARY:Justice Partner - Parents Helping Parents
DESCRIPTION:Justice Partner - Parents Helping Parents  The Justice Partner 
 for January is Parents Helping Parents.\nParents Helping Parents San Jose 
 provides low or no cost support for parents with special needs children in
  the Bay Area.  They offer classes and support groups on how to navigate 
 IEPs (individual education plans)\, on how to advocate for your child\, an
 d on how to keep your sanity while dealing with all of this\, among many o
 ther topics.  https://www.php.com/ 
CATEGORIES:Justice,Justice Partner
END:VEVENT
BEGIN:VTIMEZONE
TZID:America/Los_Angeles
X-LIC-LOCATION:America/Los_Angeles
BEGIN:STANDARD
DTSTART:20181104T010000
TZOFFSETFROM:-0700
TZOFFSETTO:-0800
TZNAME:PST
END:STANDARD
END:VTIMEZONE
END:VCALENDAR