BEGIN:VCALENDAR
VERSION:2.0
PRODID:-//wp-events-plugin.com//7.2.2.1//EN
TZID:America/Los_Angeles
X-WR-TIMEZONE:America/Los_Angeles
BEGIN:VEVENT
UID:284@uucpa.org
DTSTART;TZID=America/Los_Angeles:20160925T123000
DTEND;TZID=America/Los_Angeles:20160925T140000
DTSTAMP:20160629T221213Z
URL:https://www.uucpa.org/events/life-improvisation-developing-sense-playf
 ul-mindfulness/
SUMMARY:Life\, Improvisation\, and Developing Your Sense of Playful Mindful
 ness
DESCRIPTION:Life\, Improvisation\, and Developing Your Sense of Playful Min
 dfulness  While many people are familiar with improv on the stage or scree
 n\, this workshop will explore the philosophy of improvisation and how it 
 can be applied to your daily life!  Along with a discussion on developing
  your sense of playful mindfulness\, we will also be exploring these conce
 pts using improvisational games and exercises. This workshop is suitable f
 or people of all ages\, all abilities\, and all mindsets — so please joi
 n us for this fun and enlightening workshop!\n\nGreg Becker has degrees in
  Drama\, Computer Science\, and Education from UCI and Stanford University
 .  He has led or participated in a variety of improvisation groups over t
 he last 20 years\, including teaching improvisation to business leaders\, 
 educators\, and medical students.  He is also one of our many Sunday Scho
 ol teachers at UUCPA.    \n\n&nbsp\;\n\nContact:           M
 ag Cumbow (margret_c@uucpa.org)\n\nPresenter:       Greg Becker\n\nRe
 gistration:   Not required\, but appreciated. Childcare provided. 
CATEGORIES:Adult,Classes,Learning
LOCATION:Fireside Room
GEO:37.419574;-122.11249800000002
X-APPLE-STRUCTURED-LOCATION;VALUE=URI;X-ADDRESS=505 E Charleston Road\, Pal
 o Alto\, CA\, 94306\, United States;X-APPLE-RADIUS=100;X-TITLE=Fireside Ro
 om:geo:37.419574,-122.11249800000002
END:VEVENT
BEGIN:VTIMEZONE
TZID:America/Los_Angeles
X-LIC-LOCATION:America/Los_Angeles
BEGIN:DAYLIGHT
DTSTART:20160313T030000
TZOFFSETFROM:-0800
TZOFFSETTO:-0700
TZNAME:PDT
END:DAYLIGHT
END:VTIMEZONE
END:VCALENDAR