BEGIN:VCALENDAR
VERSION:2.0
PRODID:-//wp-events-plugin.com//7.2.2.1//EN
TZID:America/Los_Angeles
X-WR-TIMEZONE:America/Los_Angeles
BEGIN:VEVENT
UID:11530@uucpa.org
DTSTART;TZID=America/Los_Angeles:20220910T070000
DTEND;TZID=America/Los_Angeles:20220910T123000
DTSTAMP:20220827T160012Z
URL:https://www.uucpa.org/events/lifemoves-ride-to-end-homelessness/
SUMMARY:LifeMoves Ride to End Homelessness
DESCRIPTION:LifeMoves Ride to End Homelessness  \n\nThe LifeMoves** Ride t
 o End Homelessness is an annual fundraising bike ride that provides criti
 cal awareness and support to the organization’s programs that serve more
  than 1\,500 people every day and move more than 2\,000 people each year i
 nto stable homes.  It will take place this year on the morning of Saturd
 ay\, September 10th at Flood Park in Menlo Park.  With options for every
 one – from the most accomplished biker to a family with children – thi
 s event will be an inspiring\, fun\, and impactful experience for all. The
  event will conclude with lunch and a special presentation by LifeMoves CE
 O\, Aubrey Merriman.  For information on registration options\, the event
  schedule and more\, see the Ride to End Homelessness website.\n\n \n\n**
  LifeMoves is the parent organization of Hotel de Zink and the Opportunity
  Center and the non-profit to which our annual UUCPA Christmas Eve plate d
 onation is given.\n\n 
ATTACH;FMTTYPE=image/jpeg:https://www.uucpa.org/wp-content/uploads/2022/08
 /LifeMoves-Ride-to-End-Homelessness.png
CATEGORIES:Non-UUCPA
LOCATION:Flood Park
GEO:37.475132;-122.17231
X-APPLE-STRUCTURED-LOCATION;VALUE=URI;X-ADDRESS=215 Bay Road\, Menlo Park\,
  CA\, United States;X-APPLE-RADIUS=100;X-TITLE=Flood Park:geo:37.475132,-1
 22.17231
END:VEVENT
BEGIN:VTIMEZONE
TZID:America/Los_Angeles
X-LIC-LOCATION:America/Los_Angeles
BEGIN:DAYLIGHT
DTSTART:20220313T030000
TZOFFSETFROM:-0800
TZOFFSETTO:-0700
TZNAME:PDT
END:DAYLIGHT
END:VTIMEZONE
END:VCALENDAR