BEGIN:VCALENDAR
VERSION:2.0
PRODID:-//wp-events-plugin.com//7.2.2.1//EN
TZID:America/Los_Angeles
X-WR-TIMEZONE:America/Los_Angeles
BEGIN:VEVENT
UID:6715@uucpa.org
DTSTART;TZID=America/Los_Angeles:20200328T090000
DTEND;TZID=America/Los_Angeles:20200328T090000
DTSTAMP:20200327T175532Z
URL:https://www.uucpa.org/events/meditation-4-2020-03-28/
SUMMARY:Saturday Meditation - Canceled
DESCRIPTION:Saturday Meditation - Canceled  The Saturday morning meditation
  group welcomes all to join us for meditation\, tea\, and conversation. Me
 ditation time begins promptly at 9:10 and lasts for 40 minutes\, including
  several short readings. Next\, we share tea and conversation\, talking ab
 out what is important to us in the moment – perhaps our response to the 
 readings or something that is going on in our lives.\n\n 	Dates: Every Sat
 urday\n 	Time: 9-10:30 am\n 	Location: Room 6 through Aug 2019\, Room 10 s
 tarting Sep 2019+\n 	Facilitator: Leadership is shared and rotates weekly\
 n 	Contact: Marilyn Stoddard (satmeditation+owner@uucpa.org)\n 	Registrati
 on: Not required\n\nCome Meditate with Us! 
END:VEVENT
BEGIN:VTIMEZONE
TZID:America/Los_Angeles
X-LIC-LOCATION:America/Los_Angeles
BEGIN:DAYLIGHT
DTSTART:20200308T030000
TZOFFSETFROM:-0800
TZOFFSETTO:-0700
TZNAME:PDT
END:DAYLIGHT
END:VTIMEZONE
END:VCALENDAR