BEGIN:VCALENDAR
VERSION:2.0
PRODID:-//wp-events-plugin.com//7.2.2.1//EN
TZID:America/Los_Angeles
X-WR-TIMEZONE:America/Los_Angeles
BEGIN:VEVENT
UID:6718@uucpa.org
DTSTART;TZID=America/Los_Angeles:20200418T090000
DTEND;TZID=America/Los_Angeles:20200418T103000
DTSTAMP:20200404T221225Z
URL:https://www.uucpa.org/events/meditation-4-2020-04-18/
SUMMARY:Saturday Meditation - Online
DESCRIPTION:Saturday Meditation - Online  The Saturday Meditation group con
 tinues to meet during COVID-19 pandemic via Zoom.  We sit in silence for 
 two 20-minute periods\, surrounded by readings chosen by a different parti
 cipant each time we meeting.  Then we hold a confidential conversation fo
 r about 40 minutes.  Total time is 9 am to 10:30 am every Saturday.\n\nMa
 ybe you’d like to participate in a virtual Saturday meditation.  You’
 re welcome to do so.  Please send Bill Hilton an email to satmeditation+o
 wner@uucpa.org to request being added to the Zoom meeting.  I’ll respo
 nd with a specific invitation to you—which we urge you not to share\, ex
 cept with anyone in your household.\n\nThe Saturday morning meditation gro
 up welcomes all to join us for meditation\, tea\, and conversation. Medita
 tion time begins promptly at 9:10 and lasts for 40 minutes\, including sev
 eral short readings. Next\, we share tea and conversation\, talking about 
 what is important to us in the moment – perhaps our response to the read
 ings or something that is going on in our lives.\n\n 	Dates: Every Saturda
 y\n 	Time: 9-10:30 am\n 	Location: Room 6 through Aug 2019\, Room 10 start
 ing Sep 2019+\n 	Facilitator: Leadership is shared and rotates weekly\n 	C
 ontact: Marilyn Stoddard (satmeditation+owner@uucpa.org)\n 	Registration:
  Not required\n\nCome Meditate with Us! 
END:VEVENT
BEGIN:VTIMEZONE
TZID:America/Los_Angeles
X-LIC-LOCATION:America/Los_Angeles
BEGIN:DAYLIGHT
DTSTART:20200308T030000
TZOFFSETFROM:-0800
TZOFFSETTO:-0700
TZNAME:PDT
END:DAYLIGHT
END:VTIMEZONE
END:VCALENDAR