BEGIN:VCALENDAR
VERSION:2.0
PRODID:-//wp-events-plugin.com//7.2.2.1//EN
TZID:America/Los_Angeles
X-WR-TIMEZONE:America/Los_Angeles
BEGIN:VEVENT
UID:10836@uucpa.org
DTSTART;TZID=America/Los_Angeles:20220421T120000
DTEND;TZID=America/Los_Angeles:20220421T130000
DTSTAMP:20220421T170723Z
URL:https://www.uucpa.org/events/memorial-service-for-sylvia-whitcher/
SUMMARY:Memorial service for Sylvia Whitcher
DESCRIPTION:Memorial service for Sylvia Whitcher  We will gratefully rememb
 er the life of Sylvia Bennett Lyman Whitcher on Thursday\, April 22\, at 1
 2 noon Pacific time. Sylvia died on January 23 in her home at The Terraces
 \, Los Altos\, at the age of 95. She was a member of UUCPA for many years\
 , latterly involved in Elder Journey along with her husband\, Sylvan Rubin
 \, whom she met at the church. Sylvan died in 2018.\n\nSylvia frequently p
 layed the piano for services\, and even composed a choral setting for one 
 of the readings in our hymnal\, which the UUCPA choir premiered in 1984. S
 he was a passionate reader\, lover of life and learning\, and the loved an
 d loving mother of three children who benefited from her encouragement to 
 live as boldly and independently as she did.\n\nCome share your own memori
 es of Sylvia if you knew her\, and learn much more about her if you did no
 t (and even if you did.) Here is the Zoom link for the service. 
CATEGORIES:Memorial
END:VEVENT
BEGIN:VTIMEZONE
TZID:America/Los_Angeles
X-LIC-LOCATION:America/Los_Angeles
BEGIN:DAYLIGHT
DTSTART:20220313T030000
TZOFFSETFROM:-0800
TZOFFSETTO:-0700
TZNAME:PDT
END:DAYLIGHT
END:VTIMEZONE
END:VCALENDAR