BEGIN:VCALENDAR
VERSION:2.0
PRODID:-//wp-events-plugin.com//7.2.2.1//EN
TZID:America/Los_Angeles
X-WR-TIMEZONE:America/Los_Angeles
BEGIN:VEVENT
UID:16702@uucpa.org
DTSTART;TZID=America/Los_Angeles:20250120T113000
DTEND;TZID=America/Los_Angeles:20250120T123000
DTSTAMP:20250118T213752Z
URL:https://www.uucpa.org/events/mlk-community-sing-with-deborah-levoy-mit
 chell-park/
SUMMARY:MLK Community Sing with Deborah Levoy @ Mitchell Park
DESCRIPTION:MLK Community Sing with Deborah Levoy @ Mitchell Park  MLK Comm
 unity Sing with\nDeborah Levoy\nJanuary 20th 11:30am at\nMitchell Park\nML
 K Community Sing with Deborah Levoy\nJanuary 20th at 11:30am at Mitchell P
 ark\, Palo Alto\nLocal Singer/Songwriter Deborah Levoy will lead us in son
 gs to\ninspire. peace\, justice\, and unity. Sponsored by Multifaith Voice
 s for\nPeace and Justice songs will come from diverse faith traditions wit
 h\na generous helping of folk favorites\, old and new. We will gather at\n
 the sunken bowl/multi-purpose area in Mitchell Park from\n11:30-12:15. Som
 e chairs will be provided or bring your own or\nstand as we join our voice
 s in song. No singing experience or skill is\nrequired. All are welcome. A
 fterwards enjoy the food trucks and\nMLK Day of Service led by Youth Commu
 nity Service 
ATTACH;FMTTYPE=image/jpeg:https://www.uucpa.org/wp-content/uploads/2025/01
 /mvsingalong.png
CATEGORIES:Non-UUCPA,Offsite
LOCATION:Mitchell Park\, Palo Alto
GEO:37.4222348;-122.1153339
X-APPLE-STRUCTURED-LOCATION;VALUE=URI;X-ADDRESS=600 E Meadow Dr\, Palo Alto
 \, CA\, 94306\, United States;X-APPLE-RADIUS=100;X-TITLE=Mitchell Park\, P
 alo Alto:geo:37.4222348,-122.1153339
END:VEVENT
BEGIN:VTIMEZONE
TZID:America/Los_Angeles
X-LIC-LOCATION:America/Los_Angeles
BEGIN:STANDARD
DTSTART:20241103T010000
TZOFFSETFROM:-0700
TZOFFSETTO:-0800
TZNAME:PST
END:STANDARD
END:VTIMEZONE
END:VCALENDAR