BEGIN:VCALENDAR
VERSION:2.0
PRODID:-//wp-events-plugin.com//7.2.2.1//EN
TZID:America/Los_Angeles
X-WR-TIMEZONE:America/Los_Angeles
BEGIN:VEVENT
UID:17515@uucpa.org
DTSTART;TZID=America/Los_Angeles:20250911T173000
DTEND;TZID=America/Los_Angeles:20250911T193000
DTSTAMP:20250830T170713Z
URL:https://www.uucpa.org/events/multifaith-peace-picnic-and-prayer-servic
 e-to-honor-the-victims-of-9-11/
SUMMARY:Multifaith Peace Picnic and Prayer Service to honor the victims of 
 9/11
DESCRIPTION:Multifaith Peace Picnic and Prayer Service to honor the victims
  of 9/11  \n\nUnite with UUCPA Justice Partner American Muslim Voice to ho
 nor the victims of 9/11\, their families\, and first responders\, as we st
 rive to transform this tragic day into one of peace and community building
 . Let us sow the seeds of new friendships by getting to know one another a
  little better.\nThis event is free and open to ALL.\n\nA complimentary di
 nner will be served at 5:30\, multifaith prayer service\, children’s per
 formances and a message from the September 11th Families for peaceful Tomo
 rrows. The program will conclude with a Candlelight Vigil. We invite all o
 f you to be a part of this peace building event. The event will takie plac
 e at King Plaza\, Palo Alto on Thursday September 11th from 5:30 to 7:30.\
 n\nTogether we can build an inclusive\, harmonious &amp\; peaceful world.\
 n\n\n\n\n\n\n\nPlease register soon so AMV can plan the catering.\n\n\n\n\
 n\nWant to make a financial contribution to AMV?  Here's a link to their 
 donation page: https://www.paypal.com/donate?hosted_button_id=DLSK25UVWQGT
 E\n\n\n 
ATTACH;FMTTYPE=image/jpeg:https://www.uucpa.org/wp-content/uploads/2025/08
 /2025-Annual-Multifaith-Peace-Picnic-and-Prayer-Service.png
CATEGORIES:Non-UUCPA
LOCATION:King Plaza
GEO:37.4443593;-122.15990199999999
X-APPLE-STRUCTURED-LOCATION;VALUE=URI;X-ADDRESS=250 Hamilton Ave\, Palo Alt
 o\, CA\, 94301\, United States;X-APPLE-RADIUS=100;X-TITLE=King Plaza:geo:3
 7.4443593,-122.15990199999999
END:VEVENT
BEGIN:VTIMEZONE
TZID:America/Los_Angeles
X-LIC-LOCATION:America/Los_Angeles
BEGIN:DAYLIGHT
DTSTART:20250309T030000
TZOFFSETFROM:-0800
TZOFFSETTO:-0700
TZNAME:PDT
END:DAYLIGHT
END:VTIMEZONE
END:VCALENDAR