BEGIN:VCALENDAR
VERSION:2.0
PRODID:-//wp-events-plugin.com//7.2.2.1//EN
TZID:America/Los_Angeles
X-WR-TIMEZONE:America/Los_Angeles
BEGIN:VEVENT
UID:13358@uucpa.org
DTSTART;TZID=America/Los_Angeles:20230709T140000
DTEND;TZID=America/Los_Angeles:20230709T150000
DTSTAMP:20230708T155604Z
URL:https://www.uucpa.org/events/nancy-jensen-celebration-of-life/
SUMMARY:Nancy Jensen Celebration of Life
DESCRIPTION:Nancy Jensen Celebration of Life  We gather together in the Mai
 n Hall and online to celebrate the life of Nancy Jensen.\n\nTo join online
 \, use this link: https://zoom.us/j/93396090983.  The passcode was sent t
 o announce@uucpa.org.  If you did not get the passcode\, please call the 
 UUCPA office\, 650-494-0541. 
ATTACH;FMTTYPE=image/jpeg:https://www.uucpa.org/wp-content/uploads/2023/07
 /Celebration-of-the-Life-of-Nancy-Jensen.png
CATEGORIES:Memorial
LOCATION:Main Hall and online
GEO:37.419383;-122.112258
X-APPLE-STRUCTURED-LOCATION;VALUE=URI;X-ADDRESS=505 E Charleston Rd\, Palo 
 Alto\, CA\, 94306\, United States;X-APPLE-RADIUS=100;X-TITLE=Main Hall and
  online:geo:37.419383,-122.112258
END:VEVENT
BEGIN:VTIMEZONE
TZID:America/Los_Angeles
X-LIC-LOCATION:America/Los_Angeles
BEGIN:DAYLIGHT
DTSTART:20230312T030000
TZOFFSETFROM:-0800
TZOFFSETTO:-0700
TZNAME:PDT
END:DAYLIGHT
END:VTIMEZONE
END:VCALENDAR