BEGIN:VCALENDAR
VERSION:2.0
PRODID:-//wp-events-plugin.com//7.2.2.1//EN
TZID:America/Los_Angeles
X-WR-TIMEZONE:America/Los_Angeles
BEGIN:VEVENT
UID:14447@uucpa.org
DTSTART;TZID=America/Los_Angeles:20240326T180000
DTEND;TZID=America/Los_Angeles:20240326T183000
DTSTAMP:20240326T050617Z
URL:https://www.uucpa.org/events/narcan-training/
SUMMARY:Narcan training CHANGED to April 2
DESCRIPTION:Narcan training CHANGED to April 2  We'll watch the training to
 gether\, share any thoughts\, and learn how Narcan/naloxone is part of UUC
 PA's safety supplies.\n\nIf you wish to have Narcan on hand in your own ho
 me or workplace\, you can order it in advance\, for free. It may take seve
 ral days to arrive.\n\n&nbsp\;\n\nClick to join Zoom Meeting\n\nMeeting ID
 : 972 3162 0547\nPasscode: 368610\n\nOne tap mobile\n+16699006833\,\,97231
 620547#\,\,\,\,*368610# US (San Jose)\n+16694449171\,\,97231620547#\,\,\,\
 ,*368610# US\n\nFind your local number: https://zoom.us/u/acdJNLMJX5\n\n&n
 bsp\; 
END:VEVENT
BEGIN:VTIMEZONE
TZID:America/Los_Angeles
X-LIC-LOCATION:America/Los_Angeles
BEGIN:DAYLIGHT
DTSTART:20240310T030000
TZOFFSETFROM:-0800
TZOFFSETTO:-0700
TZNAME:PDT
END:DAYLIGHT
END:VTIMEZONE
END:VCALENDAR