BEGIN:VCALENDAR
VERSION:2.0
PRODID:-//wp-events-plugin.com//7.2.2.1//EN
TZID:America/Los_Angeles
X-WR-TIMEZONE:America/Los_Angeles
BEGIN:VEVENT
UID:15802@uucpa.org
DTSTART;TZID=America/Los_Angeles:20250125T080000
DTEND;TZID=America/Los_Angeles:20250125T110000
DTSTAMP:20240908T010124Z
URL:https://www.uucpa.org/events/neighboring-faiths-visit-2025-01-26/
SUMMARY:Neighboring Faiths Visit
DESCRIPTION:Neighboring Faiths Visit  Our faith community visits are the ex
 periential component of Neighboring Faith Communities\, an educational pro
 gram for middle schoolers and adults. We will meet at UUCPA's Room A befor
 e carpooling to the location. Times vary.\n\nMiddle school: Please registe
 r with Rev. Cat Boyle\n\nAdults: Please fill out this very brief contact f
 orm 
CATEGORIES:Adult,Children &amp; Youth,Classes,Learning
END:VEVENT
BEGIN:VTIMEZONE
TZID:America/Los_Angeles
X-LIC-LOCATION:America/Los_Angeles
BEGIN:STANDARD
DTSTART:20241103T010000
TZOFFSETFROM:-0700
TZOFFSETTO:-0800
TZNAME:PST
END:STANDARD
END:VTIMEZONE
END:VCALENDAR