BEGIN:VCALENDAR
VERSION:2.0
PRODID:-//wp-events-plugin.com//7.2.2.1//EN
TZID:America/Los_Angeles
X-WR-TIMEZONE:America/Los_Angeles
BEGIN:VEVENT
UID:15808@uucpa.org
DTSTART;TZID=America/Los_Angeles:20250309T093000
DTEND;TZID=America/Los_Angeles:20250309T120000
DTSTAMP:20250309T015446Z
URL:https://www.uucpa.org/events/neighboring-faiths-visit-2025-03-09/
SUMMARY:Neighboring Faiths Visit: Hindu Temple
DESCRIPTION:Neighboring Faiths Visit: Hindu Temple  Our faith community vis
 its are the experiential component of Neighboring Faith Communities\, an e
 ducational program for middle schoolers and adults. For this last visit\, 
 to the Sunnyvale Hindu Temple\, we will meet at UUCPA's Room A at 9:30 bef
 ore carpooling to the location.\n\nMiddle school: Please register with Rev
 . Cat Boyle\n\nAdults: Please fill out this very brief contact form 
CATEGORIES:Adult,Children &amp; Youth,Classes,Learning
END:VEVENT
BEGIN:VTIMEZONE
TZID:America/Los_Angeles
X-LIC-LOCATION:America/Los_Angeles
BEGIN:DAYLIGHT
DTSTART:20250309T030000
TZOFFSETFROM:-0800
TZOFFSETTO:-0700
TZNAME:PDT
END:DAYLIGHT
END:VTIMEZONE
END:VCALENDAR