BEGIN:VCALENDAR
VERSION:2.0
PRODID:-//wp-events-plugin.com//7.2.2.1//EN
TZID:America/Los_Angeles
X-WR-TIMEZONE:America/Los_Angeles
BEGIN:VEVENT
UID:7436@uucpa.org
DTSTART;TZID=America/Los_Angeles:20200517T121500
DTEND;TZID=America/Los_Angeles:20200517T130000
DTSTAMP:20200415T204351Z
URL:https://www.uucpa.org/events/newcomer-lunch-2-2020-03-15/
SUMMARY:Newcomer Lunch - Canceled
DESCRIPTION:Newcomer Lunch - Canceled  The May Newcomer Lunch is canceled d
 ue to the shelter in place order.  Instead\, we invite you to join Rev. A
 my Zucker Morgenstern for the online Discovering UUCPA class on May 10.\n\
 nAre you a newcomer (or semi-newcomer) to UUCPA? If so\, please come to th
 e pizza and salad lunch in the Fireside Room after the second service. Mee
 t other newcomers and talk to members who've already joined the UUCPA comm
 unity. Find out more about an activity or group that interests you. This i
 s a casual way to meet and talk to other friendly people – and there's a
 lways the free lunch!\n\nUUCPA members\, sorry\, this one isn't for you\; 
 we'll see you at the 2nd Sunday Lunches and 4th Sunday Brunches. 
ATTACH;FMTTYPE=image/jpeg:https://www.uucpa.org/wp-content/uploads/2019/02
 /Newcomer-Lunch-3.png
CATEGORIES:Newcomers
LOCATION:Room 9
GEO:37.419574;-122.11249800000002
X-APPLE-STRUCTURED-LOCATION;VALUE=URI;X-ADDRESS=505 E Charleston Rd\, Palo 
 Alto\, CA\, 94306\, United States;X-APPLE-RADIUS=100;X-TITLE=Room 9:geo:37
 .419574,-122.11249800000002
END:VEVENT
BEGIN:VTIMEZONE
TZID:America/Los_Angeles
X-LIC-LOCATION:America/Los_Angeles
BEGIN:DAYLIGHT
DTSTART:20200308T030000
TZOFFSETFROM:-0800
TZOFFSETTO:-0700
TZNAME:PDT
END:DAYLIGHT
END:VTIMEZONE
END:VCALENDAR