BEGIN:VCALENDAR
VERSION:2.0
PRODID:-//wp-events-plugin.com//7.2.2.1//EN
TZID:America/Los_Angeles
X-WR-TIMEZONE:America/Los_Angeles
BEGIN:VEVENT
UID:9488@uucpa.org
DTSTART;TZID=America/Los_Angeles:20210130T160000
DTEND;TZID=America/Los_Angeles:20210130T170000
DTSTAMP:20210123T050504Z
URL:https://www.uucpa.org/events/notecard-writing-circle/
SUMMARY:Notecard-writing circle
DESCRIPTION:Notecard-writing circle  UUCPA folks sent thousands of postcard
 s and letters to voters over the past several months to strengthen our dem
 ocracy. Folks in our Caring Network who enjoyed doing that in groups are o
 rganizing a similar gathering. We'll get together online and enjoy each ot
 her's company while writing notes to other people connected to UUCPA who c
 ould use a friendly check-in.\n\nWe'll provide names and addresses to thos
 e who join us\, and help each other with good ideas about what to write. T
 he Senior High Youth Group independently had the same idea\, and they'll b
 e sending cards the very next day.\n\nWe hope to make this a repeated even
 t. This first circle is Saturday\, January 30\, 4-5 p.m.\, via Zoom: https
 ://zoom.us/j/96027032461\, meeting ID 960 2703 2461.\n\n\n\n\n\nIf you're 
 interested\, please drop a line to caring@uucpa.org and we'll send you car
 ds to use and the password.\n\n\n\n\n&nbsp\; 
ATTACH;FMTTYPE=image/jpeg:https://www.uucpa.org/wp-content/uploads/2021/01
 /We-acted-globally-now-lets-think-locally.png
CATEGORIES:Caring,Small Groups
END:VEVENT
BEGIN:VTIMEZONE
TZID:America/Los_Angeles
X-LIC-LOCATION:America/Los_Angeles
BEGIN:STANDARD
DTSTART:20201101T010000
TZOFFSETFROM:-0700
TZOFFSETTO:-0800
TZNAME:PST
END:STANDARD
END:VTIMEZONE
END:VCALENDAR