BEGIN:VCALENDAR
VERSION:2.0
PRODID:-//wp-events-plugin.com//7.2.2.1//EN
TZID:America/Los_Angeles
X-WR-TIMEZONE:America/Los_Angeles
BEGIN:VEVENT
UID:8136@uucpa.org
DTSTART;TZID=America/Los_Angeles:20200527T190000
DTEND;TZID=America/Los_Angeles:20200527T190000
DTSTAMP:20200527T192651Z
URL:https://www.uucpa.org/events/online-adult-religious-ed-class-various-t
 opics-2020-05-27/
SUMMARY:Online Adult Religious Ed. Class\, various topics - Canceled
DESCRIPTION:Online Adult Religious Ed. Class\, various topics - Canceled  C
 lass is canceled this week so that people can attend the evening service m
 ourning 100\,000 US deaths from COVID.\n\n\nJoin a weekly online class wit
 h Dan Harper\, as we talk about a variety of religion-related topics (the 
 exact topic will be announced the preceding Sunday). Stay for the whole se
 ssion\, or drop in when you can.\n\nHow to join:\n\nA password is now requ
 ired to join the meeting. Check your email (from announce@uucpa.org) or em
 ail danharper@uucpa.org at least one hour prior to the meeting start time 
 to request the password.\n\n 	Join this class from your Web browser: http
 s://zoom.us/j/683839973\n 	Join this class using the Zoom app: Meeting ID:
  683 839 973\n 	Join this class by phone: 669 900 6833 US (San Jose)\, Mee
 ting ID: 683 839 973\n 
ATTACH;FMTTYPE=image/jpeg:https://www.uucpa.org/wp-content/uploads/2020/03
 /Online-Adult-RE-Classes-1.png
END:VEVENT
BEGIN:VTIMEZONE
TZID:America/Los_Angeles
X-LIC-LOCATION:America/Los_Angeles
BEGIN:DAYLIGHT
DTSTART:20200308T030000
TZOFFSETFROM:-0800
TZOFFSETTO:-0700
TZNAME:PDT
END:DAYLIGHT
END:VTIMEZONE
END:VCALENDAR