BEGIN:VCALENDAR
VERSION:2.0
PRODID:-//wp-events-plugin.com//7.2.2.1//EN
TZID:America/Los_Angeles
X-WR-TIMEZONE:America/Los_Angeles
BEGIN:VEVENT
UID:16782@uucpa.org
DTSTART;TZID=America/Los_Angeles:20250517T110000
DTEND;TZID=America/Los_Angeles:20250517T130000
DTSTAMP:20250510T221454Z
URL:https://www.uucpa.org/events/palo-alto-affordable-housing-fair/
SUMMARY:Palo Alto Affordable Housing Fair
DESCRIPTION:Palo Alto Affordable Housing Fair  Join the City of Palo Alto f
 or the 2025 Affordable Housing and Housing Resources Fair on Saturday\, Ma
 y 17\, 2025\, from 11:00 a.m. to 1:00 p.m. at King Plaza (in front of City
  Hall\, 250 Hamilton Ave). This free\, family-friendly event brings togeth
 er local nonprofits\, housing providers\, service organizations\, and City
  and County staff to share information on affordable housing opportunities
 \, housing rehabilitation support\, and other housing-related services. Wh
 ether you're a renter\, homeowner\, or someone who works in Palo Alto\, th
 is is a great opportunity to learn more about the resources available in t
 he community.\n\nCome connect with organizations\, ask questions\, and lea
 rn about programs that may be available to you or someone you know.  Plea
 se pass this along to those in your social networks.\n\nFor more details\,
  visit: paloalto.gov/housingfair 
ATTACH;FMTTYPE=image/jpeg:https://www.uucpa.org/wp-content/uploads/2025/05
 /2025-Affordable-Housing-Fair.png
CATEGORIES:Non-UUCPA,Offsite
LOCATION:King Plaza
GEO:37.4443593;-122.15990199999999
X-APPLE-STRUCTURED-LOCATION;VALUE=URI;X-ADDRESS=250 Hamilton Ave\, Palo Alt
 o\, CA\, 94301\, United States;X-APPLE-RADIUS=100;X-TITLE=King Plaza:geo:3
 7.4443593,-122.15990199999999
END:VEVENT
BEGIN:VTIMEZONE
TZID:America/Los_Angeles
X-LIC-LOCATION:America/Los_Angeles
BEGIN:DAYLIGHT
DTSTART:20250309T030000
TZOFFSETFROM:-0800
TZOFFSETTO:-0700
TZNAME:PDT
END:DAYLIGHT
END:VTIMEZONE
END:VCALENDAR