BEGIN:VCALENDAR
VERSION:2.0
PRODID:-//wp-events-plugin.com//7.2.2.1//EN
TZID:America/Los_Angeles
X-WR-TIMEZONE:America/Los_Angeles
BEGIN:VEVENT
UID:1284@uucpa.org
DTSTART;TZID=America/Los_Angeles:20170312T140000
DTEND;TZID=America/Los_Angeles:20170312T153000
DTSTAMP:20170218T190016Z
URL:https://www.uucpa.org/events/palo-alto-uu-players-pauup/
SUMMARY:Palo Alto UU Players (PAUUP)
DESCRIPTION:Palo Alto UU Players (PAUUP)  \n\n\n\nAfter the second Sunday l
 unch\, March 12\, PAUUP will present Meeting Of Minds\, when we'll hear fr
 om St. Augustine of Hippo\, The Empress Theodora of the Byzantine Empire\,
  Thomas Jefferson\, and Bertrand Russell.\n\nJoin us for this romp through
  history\, in the Fireside Room.\n\n—Brian Weller\n\n\n\n 
CATEGORIES:Adult
LOCATION:Fireside Room
GEO:37.419574;-122.11249800000002
X-APPLE-STRUCTURED-LOCATION;VALUE=URI;X-ADDRESS=505 E Charleston Road\, Pal
 o Alto\, CA\, 94306\, United States;X-APPLE-RADIUS=100;X-TITLE=Fireside Ro
 om:geo:37.419574,-122.11249800000002
END:VEVENT
BEGIN:VTIMEZONE
TZID:America/Los_Angeles
X-LIC-LOCATION:America/Los_Angeles
BEGIN:DAYLIGHT
DTSTART:20170312T030000
TZOFFSETFROM:-0800
TZOFFSETTO:-0700
TZNAME:PDT
END:DAYLIGHT
END:VTIMEZONE
END:VCALENDAR