BEGIN:VCALENDAR
VERSION:2.0
PRODID:-//wp-events-plugin.com//7.2.2.1//EN
TZID:America/Los_Angeles
X-WR-TIMEZONE:America/Los_Angeles
BEGIN:VEVENT
UID:12445@uucpa.org
DTSTART;TZID=America/Los_Angeles:20230225T173000
DTEND;TZID=America/Los_Angeles:20230225T203000
DTSTAMP:20230204T184154Z
URL:https://www.uucpa.org/events/parents-night-out-2/
SUMMARY:Parents' Night Out
DESCRIPTION:Parents&#039\; Night Out  Take a break and let UUCPA do the chi
 ldcare. We will be watching a movie and eating pizza while you are out on 
 the town. Friends welcome!\n\nIf your high schooler would like to voluntee
 r to help\, please email revcat@uucpa.org. 
ATTACH;FMTTYPE=image/jpeg:https://www.uucpa.org/wp-content/uploads/2023/02
 /parentsnightoutfeb.jpg
CATEGORIES:Children &amp; Youth
LOCATION:UUCPA
GEO:37.419574;-122.11249800000002
X-APPLE-STRUCTURED-LOCATION;VALUE=URI;X-ADDRESS=505 E Charleston Rd\, Palo 
 Alto\, CA\, 94306\, United States;X-APPLE-RADIUS=100;X-TITLE=UUCPA:geo:37.
 419574,-122.11249800000002
END:VEVENT
BEGIN:VTIMEZONE
TZID:America/Los_Angeles
X-LIC-LOCATION:America/Los_Angeles
BEGIN:STANDARD
DTSTART:20221106T010000
TZOFFSETFROM:-0700
TZOFFSETTO:-0800
TZNAME:PST
END:STANDARD
END:VTIMEZONE
END:VCALENDAR