BEGIN:VCALENDAR
VERSION:2.0
PRODID:-//wp-events-plugin.com//7.2.2.1//EN
TZID:America/Los_Angeles
X-WR-TIMEZONE:America/Los_Angeles
BEGIN:VEVENT
UID:9489@uucpa.org
DTSTART;TZID=America/Los_Angeles:20210313T083000
DTEND;TZID=America/Los_Angeles:20210313T200000
DTSTAMP:20210221T145715Z
URL:https://www.uucpa.org/events/pcd-womens-retreat-4/
SUMMARY:PCD Women’s Retreat
DESCRIPTION:PCD Women’s Retreat  \n\n\nWomen from UU congregations in the
  Bay Area and beyond are gathering March 13 from 8:30 am to 8 pm for a one
 -day virtual retreat on Zoom. The theme is: HANGING IN\, HANGING ON.  All
  self-identified women are more than welcome to join us. Registration wil
 l be open until March 1st. To register\, click on the Google form here
 .We will share our lives in an opening orientation\, small groups\, learni
 ng sessions\, a scavenger hunt in your home\, Suffragist bingo\, a memoria
 l for Liz Fisher and Meg Bowman\, and a closing session.\nRegistration is 
 $25.\nTo be added to the retreat email list\, send a blank email to PCDUUw
 omen+subscribe@groups.io. Also check out our Facebook page: https://www.f
 acebook.com/WandRPCD.\n\n\n 
ATTACH;FMTTYPE=image/jpeg:https://www.uucpa.org/wp-content/uploads/2021/01
 /Copy-of-PCD-Women-Retreat-2021.gif
CATEGORIES:Non-UUCPA,Offsite
END:VEVENT
BEGIN:VTIMEZONE
TZID:America/Los_Angeles
X-LIC-LOCATION:America/Los_Angeles
BEGIN:STANDARD
DTSTART:20201101T010000
TZOFFSETFROM:-0700
TZOFFSETTO:-0800
TZNAME:PST
END:STANDARD
END:VTIMEZONE
END:VCALENDAR