BEGIN:VCALENDAR
VERSION:2.0
PRODID:-//wp-events-plugin.com//7.2.2.1//EN
TZID:America/Los_Angeles
X-WR-TIMEZONE:America/Los_Angeles
BEGIN:VEVENT
UID:9790@uucpa.org
DTSTART;TZID=America/Los_Angeles:20210925T100000
DTEND;TZID=America/Los_Angeles:20210925T160000
DTSTAMP:20210904T143703Z
URL:https://www.uucpa.org/events/pcd-womens-retreat-5/
SUMMARY:PCD Women’s Retreat
DESCRIPTION:PCD Women’s Retreat  \n\n\n\nWomen &amp\; Religion VIRTUAL Re
 treat\nSaturday\, September 25\, 10 am to 4 pm on Zoom\nTheme: NEW BEGINNI
 NGS\n\n\nAre you interested in making NEW BEGINNINGS with new friends and 
 old? The Pacific Central District Women &amp\; Religion group is hosting a
  fall retreat. We’ll have learning sessions\, affinity circles\, and a k
 eynote speech on the proposed 8th UU Principle by Paula Cole Jones. (See 
 www.8thprincipleuu.org)\n\nRegular registration is $25\; for women 18-35 a
 nd first-timers: $10. Scholarships are available.\n\nTo register before th
 e September 20th deadline\, go to https://www.pcduuwr.org/ and click the
  link for the Google registration form.\n\n\n 
ATTACH;FMTTYPE=image/jpeg:https://www.uucpa.org/wp-content/uploads/2021/08
 /PCD-Women-Retreat-Fall-2021.png
CATEGORIES:Non-UUCPA,Offsite
END:VEVENT
BEGIN:VTIMEZONE
TZID:America/Los_Angeles
X-LIC-LOCATION:America/Los_Angeles
BEGIN:DAYLIGHT
DTSTART:20210314T030000
TZOFFSETFROM:-0800
TZOFFSETTO:-0700
TZNAME:PDT
END:DAYLIGHT
END:VTIMEZONE
END:VCALENDAR