BEGIN:VCALENDAR
VERSION:2.0
PRODID:-//wp-events-plugin.com//7.2.2.1//EN
TZID:America/Los_Angeles
X-WR-TIMEZONE:America/Los_Angeles
BEGIN:VEVENT
UID:2550@uucpa.org
DTSTART;TZID=America/Los_Angeles:20171112T110000
DTEND;TZID=America/Los_Angeles:20171112T140000
DTSTAMP:20171105T163759Z
URL:https://www.uucpa.org/events/peace-social-justice-harvest-fair/
SUMMARY:Peace and Social Justice Harvest Fair
DESCRIPTION:Peace and Social Justice Harvest Fair  \n\n\n\nGet a head start
  on your holiday shopping with an array of gifts and crafts from around th
 e world. Promote fair trade\, reduce your carbon footprint\, and celebrate
  the wonderful work being done by local organizations. Enjoy free food and
  music. Have fun! This annual fair is jointly sponsored by First Presbyter
 ian Church and by the Peninsula Peace and Justice Center. We hope to see y
 ou there!\n\n\n\n 
CATEGORIES:Justice,Non-UUCPA,Offsite
LOCATION:First Presbyterian Church Palo Alto
GEO:37.442882;-122.15144499999997
X-APPLE-STRUCTURED-LOCATION;VALUE=URI;X-ADDRESS=1140 Cowper St\, Palo Alto\
 , CA\, 94301\, United States;X-APPLE-RADIUS=100;X-TITLE=First Presbyterian
  Church Palo Alto:geo:37.442882,-122.15144499999997
END:VEVENT
BEGIN:VTIMEZONE
TZID:America/Los_Angeles
X-LIC-LOCATION:America/Los_Angeles
BEGIN:STANDARD
DTSTART:20171105T010000
TZOFFSETFROM:-0700
TZOFFSETTO:-0800
TZNAME:PST
END:STANDARD
END:VTIMEZONE
END:VCALENDAR