BEGIN:VCALENDAR
VERSION:2.0
PRODID:-//wp-events-plugin.com//7.2.2.1//EN
TZID:America/Los_Angeles
X-WR-TIMEZONE:America/Los_Angeles
BEGIN:VEVENT
UID:1342@uucpa.org
DTSTART;TZID=America/Los_Angeles:20170511T190000
DTEND;TZID=America/Los_Angeles:20170511T193000
DTSTAMP:20170426T211656Z
URL:https://www.uucpa.org/events/peaceful-presence-prayer-service/
SUMMARY:Peaceful Presence Prayer Service
DESCRIPTION:Peaceful Presence Prayer Service  On Thursday\, May 11\, from 7
 :00 PM to 7:30 PM\, there will be a prayer service in the Fireside Room. 
  It is designed for those who are suffering at the hands of their own gove
 rnment\, those who need a pause in the midst of intensive work on behalf o
 f others\, and all who would like to pray with others for the well-being o
 f all.  The prayer time will include elements from several religious trad
 itions\, and will embrace those of all faith traditions or no defined fait
 h.\n This will be the first in a series of services called "Peaceful Pres
 ence" that will be held on the 11th day of each month in houses of worship
  in our area.  For more information: http://www.multifaithpeace.org/arti
 cle.php/2017041111480288 
ATTACH;FMTTYPE=image/jpeg:https://www.uucpa.org/wp-content/uploads/2017/04
 /peaceful_presence_flyer_v2-pdf.jpg
CATEGORIES:Justice
LOCATION:Fireside Room
GEO:37.419574;-122.11249800000002
X-APPLE-STRUCTURED-LOCATION;VALUE=URI;X-ADDRESS=505 E Charleston Road\, Pal
 o Alto\, CA\, 94306\, United States;X-APPLE-RADIUS=100;X-TITLE=Fireside Ro
 om:geo:37.419574,-122.11249800000002
END:VEVENT
BEGIN:VTIMEZONE
TZID:America/Los_Angeles
X-LIC-LOCATION:America/Los_Angeles
BEGIN:DAYLIGHT
DTSTART:20170312T030000
TZOFFSETFROM:-0800
TZOFFSETTO:-0700
TZNAME:PDT
END:DAYLIGHT
END:VTIMEZONE
END:VCALENDAR