BEGIN:VCALENDAR
VERSION:2.0
PRODID:-//wp-events-plugin.com//7.2.2.1//EN
TZID:America/Los_Angeles
X-WR-TIMEZONE:America/Los_Angeles
BEGIN:VEVENT
UID:12199@uucpa.org
DTSTART;TZID=America/Los_Angeles:20221211T190000
DTEND;TZID=America/Los_Angeles:20221211T193000
DTSTAMP:20221211T040139Z
URL:https://www.uucpa.org/events/peaceful-presence-service-2/
SUMMARY:Hybrid Peaceful Presence Service
DESCRIPTION:Hybrid Peaceful Presence Service  Monthly Multifaith Prayers fo
 r Peace\n7 - 7:30 pm on the 11th of every month\nDecember service to be ho
 sted by UUCPA\n\n\n&nbsp\;\n\nMultifaith Voices for Peace and Justice coor
 dinates “Peaceful Presence” gatherings\, a monthly prayer service on t
 he evening of the 11th of each month. We offer this time of quiet multifai
 th prayers for peace and strength for the journey.  All are welcome: thos
 e of all faith traditions and of no defined faith\, those who are sufferin
 g at the hands of their own government\, those who need a pause in the mid
 st of intensive work on behalf of others\, and all who would like to pray 
 with others for the well-being of all. The prayer time will include elemen
 ts from several religious traditions.\n\nThe service hosted by UUCPA on Su
 nday\, December 11\, will include cello music by UUCPA's Charlotte Midwint
 er\, piano music by UUCPA's Sean Hansen\, readings from the Baha'i and Jew
 ish traditions by members of those communities\, as well as all attendees 
 lifting their voices to share words of peace and comfort from Unitarian Un
 iversalism.\n\nJoin us in the Fireside Room or on Zoom.\n\n&nbsp\; 
CATEGORIES:Worship Services
LOCATION:Fireside Room
GEO:37.419574;-122.11249800000002
X-APPLE-STRUCTURED-LOCATION;VALUE=URI;X-ADDRESS=505 E Charleston Road\, Pal
 o Alto\, CA\, 94306\, United States;X-APPLE-RADIUS=100;X-TITLE=Fireside Ro
 om:geo:37.419574,-122.11249800000002
END:VEVENT
BEGIN:VTIMEZONE
TZID:America/Los_Angeles
X-LIC-LOCATION:America/Los_Angeles
BEGIN:STANDARD
DTSTART:20221106T010000
TZOFFSETFROM:-0700
TZOFFSETTO:-0800
TZNAME:PST
END:STANDARD
END:VTIMEZONE
END:VCALENDAR