BEGIN:VCALENDAR
VERSION:2.0
PRODID:-//wp-events-plugin.com//7.2.2.1//EN
TZID:America/Los_Angeles
X-WR-TIMEZONE:America/Los_Angeles
BEGIN:VEVENT
UID:16868@uucpa.org
DTSTART;TZID=America/Los_Angeles:20250611T190000
DTEND;TZID=America/Los_Angeles:20250611T193000
DTSTAMP:20250607T173919Z
URL:https://www.uucpa.org/events/peaceful-presence-service-4/
SUMMARY:Peaceful Presence service
DESCRIPTION:Peaceful Presence service  This month’s Peaceful Presence ser
 vice offered by Multifaith Voices for Peace and Justice will take place at
  UUCPA and will be led by Amy Morgenstern (her last one!) and Melissa Thom
 pson.  The event will be on Wednesday\, June 11\, at 7:00 p.m. in Room 6*
 *.  Light refreshments will be offered following the brief service.  Ple
 ase join us!\n**Note that this is an in-person only event. 
ATTACH;FMTTYPE=image/jpeg:https://www.uucpa.org/wp-content/uploads/2025/06
 /Peaceful-Presence.png
CATEGORIES:Justice,Worship Services
LOCATION:Room 6
GEO:37.419574;-122.11249800000002
X-APPLE-STRUCTURED-LOCATION;VALUE=URI;X-ADDRESS=505 E Charleston Rd\, Palo 
 Alto\, CA\, 94306\, United States;X-APPLE-RADIUS=100;X-TITLE=Room 6:geo:37
 .419574,-122.11249800000002
END:VEVENT
BEGIN:VTIMEZONE
TZID:America/Los_Angeles
X-LIC-LOCATION:America/Los_Angeles
BEGIN:DAYLIGHT
DTSTART:20250309T030000
TZOFFSETFROM:-0800
TZOFFSETTO:-0700
TZNAME:PDT
END:DAYLIGHT
END:VTIMEZONE
END:VCALENDAR