BEGIN:VCALENDAR
VERSION:2.0
PRODID:-//wp-events-plugin.com//7.2.2.1//EN
TZID:America/Los_Angeles
X-WR-TIMEZONE:America/Los_Angeles
BEGIN:VEVENT
UID:5474@uucpa.org
DTSTART;TZID=America/Los_Angeles:20190411T190000
DTEND;TZID=America/Los_Angeles:20190411T200000
DTSTAMP:20190411T123717Z
URL:https://www.uucpa.org/events/peaceful-presence-service-fireside-roo/
SUMMARY:Peaceful Presence Service - Multifaith Voices for Peace and Justice
DESCRIPTION:Peaceful Presence Service - Multifaith Voices for Peace and Jus
 tice  \n\n\n\nUUCPA is hosting the April Peaceful Presence service organiz
 ed by Multifaith Voices for Peace and Justice (MVPJ). This service will be
  held on April 11\, 7 to 7:30 pm in the Fireside Room\, with time for refr
 eshments and conversation after the service. There will be participation f
 rom leaders and members of other faith traditions at this service.\n\nMVPJ
  Peaceful Presence services take place in different locations on the 11th 
 of each month. These services are focused on gathering in peace and solida
 rity\, and on providing a space for drawing sustenance from each other in 
 these difficult times.\n\n\n\n 
CATEGORIES:Justice
LOCATION:Fireside Room
GEO:37.419574;-122.11249800000002
X-APPLE-STRUCTURED-LOCATION;VALUE=URI;X-ADDRESS=505 E Charleston Road\, Pal
 o Alto\, CA\, 94306\, United States;X-APPLE-RADIUS=100;X-TITLE=Fireside Ro
 om:geo:37.419574,-122.11249800000002
END:VEVENT
BEGIN:VTIMEZONE
TZID:America/Los_Angeles
X-LIC-LOCATION:America/Los_Angeles
BEGIN:DAYLIGHT
DTSTART:20190310T030000
TZOFFSETFROM:-0800
TZOFFSETTO:-0700
TZNAME:PDT
END:DAYLIGHT
END:VTIMEZONE
END:VCALENDAR