BEGIN:VCALENDAR
VERSION:2.0
PRODID:-//wp-events-plugin.com//7.2.2.1//EN
TZID:America/Los_Angeles
X-WR-TIMEZONE:America/Los_Angeles
BEGIN:VEVENT
UID:16747@uucpa.org
DTSTART;TZID=America/Los_Angeles:20250412T090000
DTEND;TZID=America/Los_Angeles:20250412T130000
DTSTAMP:20250315T223314Z
URL:https://www.uucpa.org/events/plant-a-tree-for-neighbors/
SUMMARY:Plant a Tree for Neighbors
DESCRIPTION:Plant a Tree for Neighbors  Help Canopy plant 15 trees in sout
 h Palo Alto’s Ramos park neighborhood on April 12\, 9:00 am to 1:00 pm\n
 Join folks from the UU Fellowship of Sunnyvale and the UU Church of Palo A
 lto. Our collaborative Climate Justice Revival lives on in this intergener
 ational action promoting tree equity and carbon removal. Bring a picnic an
 d enjoy a treat while we play\, connect\, and reflect together.   \nAll
  ages welcome! Children under 16 should be accompanied by a parent\, guard
 ian\, or other designated adult. If you are interested in carpooling\, sig
 n up here. Wear closed-toe shoes and sun protection.\nRegister here by Apr
 il 1 (indicate you are coming from UUCPA on the reg form)\nQuestions? Cont
 act redirector@uufs.org or revcat@uucpa.org. 
ATTACH;FMTTYPE=image/jpeg:https://www.uucpa.org/wp-content/uploads/2025/03
 /Plant-a-Tree-for-Neighbors.png
CATEGORIES:Special Events
LOCATION:Ramos Park
X-APPLE-STRUCTURED-LOCATION;VALUE=URI;X-ADDRESS=800 E Meadow Dr\, Palo Alto
 \, CA\, United States;X-APPLE-RADIUS=100;X-TITLE=Ramos Park:geo:0,0
END:VEVENT
BEGIN:VTIMEZONE
TZID:America/Los_Angeles
X-LIC-LOCATION:America/Los_Angeles
BEGIN:DAYLIGHT
DTSTART:20250309T030000
TZOFFSETFROM:-0800
TZOFFSETTO:-0700
TZNAME:PDT
END:DAYLIGHT
END:VTIMEZONE
END:VCALENDAR