BEGIN:VCALENDAR
VERSION:2.0
PRODID:-//wp-events-plugin.com//7.2.2.1//EN
TZID:America/Los_Angeles
X-WR-TIMEZONE:America/Los_Angeles
BEGIN:VEVENT
UID:16703@uucpa.org
DTSTART;TZID=America/Los_Angeles:20250226T190000
DTEND;TZID=America/Los_Angeles:20250226T210000
DTSTAMP:20250125T205613Z
URL:https://www.uucpa.org/events/professor-kathryn-gin-lum-religion-race-a
 nd-the-heathen-at-st-marks/
SUMMARY:Professor Kathryn Gin Lum\, Religion\, Race\, and the ‘Heathen’
  at St. Mark's
DESCRIPTION:Professor Kathryn Gin Lum\, Religion\, Race\, and the ‘Heathe
 n’ at St. Mark&#039\;s  Last year UUCPA agreed to co-sponsor St. Mark
 ’s Episcopal Church’s speaker series on White Christian Nationalism an
 d its threats to our communities. The final event in this series is coming
  up!\nThe next speaker event will be held on Wednesday\, February 26\, 202
 5\, at St. Mark's Episcopal Church at 7 PM. The speaker is Stanford Profes
 sor Kathryn Gin Lum.  She will speak about her recent book\, HEATHEN Rel
 igion and Race in American History.  In her book\, Professor Gin Lum illu
 minates how othering people as heathens created an additional means to dis
 criminate against them.\nProfessor Kathryn Gin Lum \nReligion\, Race\, an
 d the ‘Heathen’ \nFebruary 26\, 2025\n7:00 p.m. with light refreshmen
 ts to follow\nSt. Mark’s Episcopal Church\n600 Colorado Ave\, Palo Alto\
 , CA\nWheelchair accessible\; Closed captioning available \nRegistration 
 Required. https://tinyurl.com/stmarkseries\nFlyer 
ATTACH;FMTTYPE=image/jpeg:https://www.uucpa.org/wp-content/uploads/2025/01
 /Professor-Kathryn-Gin-Lum-Religion-Race-and-the-‘Heathen.png
CATEGORIES:Non-UUCPA,Offsite
LOCATION:Saint Mark’s Episcopal Church
X-APPLE-STRUCTURED-LOCATION;VALUE=URI;X-ADDRESS=600 Colorado Ave\, Palo Alt
 o\, CA\, United States;X-APPLE-RADIUS=100;X-TITLE=Saint Mark’s Episcopal
  Church:geo:0,0
END:VEVENT
BEGIN:VTIMEZONE
TZID:America/Los_Angeles
X-LIC-LOCATION:America/Los_Angeles
BEGIN:STANDARD
DTSTART:20241103T010000
TZOFFSETFROM:-0700
TZOFFSETTO:-0800
TZNAME:PST
END:STANDARD
END:VTIMEZONE
END:VCALENDAR