BEGIN:VCALENDAR
VERSION:2.0
PRODID:-//wp-events-plugin.com//7.2.2.1//EN
TZID:America/Los_Angeles
X-WR-TIMEZONE:America/Los_Angeles
BEGIN:VEVENT
UID:8968@uucpa.org
DTSTART;TZID=America/Los_Angeles:20210523T093000
DTEND;TZID=America/Los_Angeles:20210523T101500
DTSTAMP:20210505T023524Z
URL:https://www.uucpa.org/events/red-class-sunday-school-preschool-2021-05
 -23/
SUMMARY:NO Red Class Sunday School (preschool)
DESCRIPTION:NO Red Class Sunday School (preschool)  No Sunday school today\
 , please attend the Family check-in gathering at 9:45 am (before the Comin
 g of Age worship service)\n\nThe Red class is currently on hold.  If you 
 are interested in Sunday school classes for 3 and 4 year olds please conta
 ct us at cyrecommittee@uucpa.org.\n\n&nbsp\;\n\nDuring Sunday school\, you
 ng people learn from friendly adults and their peers.  If you would like 
 to review curriculum materials ahead of time\, please contact Dan Harper. 
 And feel free to sit in on any online class.\n\nRed group (3 and 4 year ol
 ds) — Story-based curriculum\, using We Are Many\, We Are One\, a curri
 culum that introduces young children to age-appropriate diversity concepts
 .\n\nTo find out more\, please contact Dan Harper: danharper@uucpa.org\n\n
 Sunday school classes are held weekly on Sundays\, except during intergene
 rational service weeks.  Check the Sunday School links spreadsheet for th
 e Zoom meeting details. Sunday school links reminder email is sent weekly 
 on Sunday mornings. 
CATEGORIES:Children,Children &amp; Youth,Elementary,Learning,Sunday School
END:VEVENT
BEGIN:VTIMEZONE
TZID:America/Los_Angeles
X-LIC-LOCATION:America/Los_Angeles
BEGIN:DAYLIGHT
DTSTART:20210314T030000
TZOFFSETFROM:-0800
TZOFFSETTO:-0700
TZNAME:PDT
END:DAYLIGHT
END:VTIMEZONE
END:VCALENDAR