BEGIN:VCALENDAR
VERSION:2.0
PRODID:-//wp-events-plugin.com//7.2.2.1//EN
TZID:America/Los_Angeles
X-WR-TIMEZONE:America/Los_Angeles
BEGIN:VEVENT
UID:16527@uucpa.org
DTSTART;TZID=America/Los_Angeles:20250524T160000
DTEND;TZID=America/Los_Angeles:20250524T170000
DTSTAMP:20250524T125718Z
URL:https://www.uucpa.org/events/resonant-reading-2-2025-05-24/
SUMMARY:Resonant Reading (Saturday)
DESCRIPTION:Resonant Reading (Saturday)  An exploration of ideas\, feelings
 \, and our life experiences\, using a different short reading as our sprin
 gboard each time. The sessions are on Saturdays\, 4-5\, and on Wednesdays\
 , 12-1. All are wide open and you are welcome to come twice a week or once
  in a while.\n\nThe participants over the years have found that the approa
 ch we take\, and the respectful\, affectionate community of inquirers in w
 hich we read and converse\, are as important as the reading itself. While 
 many small groups begin with a check-in\, with a session only an hour long
 \, Resonant Reading jumps right in to the conversation. Those who are freq
 uently in the group get to know each other very well this way\, and those 
 who are new will soon find they are among friends.\n\n\n\nFacilitators use
  a light hand\, posting the reading in the chat and calling on whoever's Z
 oom hand is up. Suggestions for readings* come from group members\, who al
 so take turns facilitating\, if they want to try that role.\n\nThe reading
  for this session: Saturday (5/24 at 4PM)\n\nThe mature individual makes c
 ommitments to something larger than the service of one's “convulsive lit
 tle ego\,” to use William James’ memorable phrase—religious commitme
 nts\, commitments to loved ones\, to the social enterprise and to the mora
 l order. In a free society we shall never specify too closely what those c
 ommitments should be. …\n\nWe speak of happiness as involving a “striv
 ing toward” meaningful goals\, not necessarily the attaining of those go
 als. It is characteristic of certain kinds of human striving that the goal
 s may be unattainable. Those who dedicate their lives to the achieving of 
 good government or to the combating of human misery may enjoy small victor
 ies but can never win the longer battle. The goal recedes before them. …
  For this reason\, these self-renewing persons never feel that they have 
 “arrived.” They know that the really important tasks are never finishe
 d—interrupted\, perhaps\, but never finished.\n\n–John Gardner\, Self-
 Renewal (1963)\, pp. 96\, 98. (Edited to avoid gendered pronouns.)\n\n\n&n
 bsp\;\n\n&nbsp\;\n\n\nHow to join:\n\n 	Join this class from your Web brow
 ser: https://zoom.us/j/91019857324\, passcode 227385\n 	Join this class us
 ing the Zoom app: Meeting ID: 910 1985 7324\n 	Join this class by phone: 6
 69 900 9128 US (San Jose)\, Meeting ID: 910 1985 7324\n 	Join this class b
 y on-tap on mobile phones: +16699009128\,\,91019857324# US (San Jose)\n 	P
 honing in\, but not in the bay area?  Find your local number: https://zo
 om.us/u/abL8clvIYT\n\nThis is the Zoom link for Saturdays. For the Wednesd
 ay Zoom link\, go to the Calendar and click on a Wednesday session.\n\nQue
 stions? Drop an e-mail to resonant-reading+owner@uucpa.org.\n\n\n&nbsp\;\n
 \n*This activity was formerly called "Sacred Text Reading." That proved mi
 sleading--for one thing\, more often than not our sources are secular--but
  it's worth describing the qualities of a sacred text\, which we still loo
 k for in the readings we choose. It is any reading that helps us to:\n\n 	
 connect to something of supreme importance to us\n 	feel more connected to
  other beings or to the universe\n 	feel more intensely alive\n 	align our
  lives with our values\,\n 	perceive or feel more deeply\n 	be more fully 
 and authentically ourselves.\n 
ATTACH;FMTTYPE=image/jpeg:https://www.uucpa.org/wp-content/uploads/2023/09
 /Resonant-Reading.png
CATEGORIES:Adult,Classes,Learning,Small Groups
END:VEVENT
BEGIN:VTIMEZONE
TZID:America/Los_Angeles
X-LIC-LOCATION:America/Los_Angeles
BEGIN:DAYLIGHT
DTSTART:20250309T030000
TZOFFSETFROM:-0800
TZOFFSETTO:-0700
TZNAME:PDT
END:DAYLIGHT
END:VTIMEZONE
END:VCALENDAR