BEGIN:VCALENDAR
VERSION:2.0
PRODID:-//wp-events-plugin.com//7.2.2.1//EN
TZID:America/Los_Angeles
X-WR-TIMEZONE:America/Los_Angeles
BEGIN:VEVENT
UID:17133@uucpa.org
DTSTART;TZID=America/Los_Angeles:20250816T160000
DTEND;TZID=America/Los_Angeles:20250816T170000
DTSTAMP:20250811T170228Z
URL:https://www.uucpa.org/events/resonant-reading-saturday-2025-08-16/
SUMMARY:Resonant Reading (Saturday)-Adoration of the Magi-Da Vinci
DESCRIPTION:Resonant Reading (Saturday)-Adoration of the Magi-Da Vinci  An 
 exploration of ideas\, feelings\, and our life experiences\, using a diffe
 rent short reading as our springboard each time. The sessions are on Satur
 days\, 4-5\, and on Wednesdays\, 12-1. All are wide open and you are welco
 me to come twice a week or once in a while.\n\nThe participants over the y
 ears have found that the approach we take\, and the respectful\, affection
 ate community of inquirers in which we read and converse\, are as importan
 t as the reading itself. While many small groups begin with a check-in\, w
 ith a session only an hour long\, Resonant Reading jumps right in to the c
 onversation. Those who are frequently in the group get to know each other 
 very well this way\, and those who are new will soon find they are among f
 riends.\n\n\n\nFacilitators use a light hand\, posting the reading in the 
 chat and calling on whoever's Zoom hand is up. Suggestions for readings* c
 ome from group members\, who also take turns facilitating\, if they want t
 o try that role.\n\nThe reading for this session:\nThis Saturday (8/16 at 
 4PM)\n\nThe text is Leonardo Da Vinci's incomplete painting: The adoration
  of the Magi: https://en.wikipedia.org/wiki/Adoration_of_the_Magi_(Leonard
 o)#/media/File:Adoration_of_the_Magi_(Leonardo).jpg\n\n\n\n\nThe main line
 s form a triangle backed by an arc. The right side of the triangle is a re
 latively straight line from the kneeling King’s foot to St Joseph\, and 
 is echoed in the background by the line of the staircases. The left side r
 ises in a series of curves\, which are repeated in the arcades of the ruin
 \, and supported by the leading gestures and glances. Round this triangle\
 , an arc of shadowy figures flows like the Stream of Ocean of Ptolemaic ge
 ography. To stabilize this restless pattern Leonardo has placed four verti
 cals\, the two trees near the centre of the triangle\, the two upright fig
 ures at its bases.\n\nEven this bare\, geometrical analysis of the composi
 tion gives a hint of its dramatic meaning. The symbolical homage of wisdom
  and science to a new faith is firmly expressed by the main figures\; but 
 pressing round them\, like ghosts from the magical paganism of Apuleius [a
 uthor of the magical Roman novel The Golden Ass]\, are those evasive creat
 ures which writers on Leonardo are content to call angels. In the backgrou
 nd\, agitation of spirit inhabits the half-ruined construction of intellig
 ence. There remain the two figures at the sides\, which seem to stand outs
 ide the scene\, like leaders of a Greek chorus. To the left is the philoso
 pher\, whose noble form we saw in evolution. Morally and materially he has
  the grandeur of [an] apostle. Opposite [him is the] deeply romantic figur
 e of a youth in armour on the right.\n\nHe looks out of the picture with c
 omplete indifference\, and as is usual with such detached figures a tradit
 ion has grown up that Leonardo has here portrayed himself. Whether or not 
 this is true in a literal sense we cannot tell but the student of Leonardo
  may feel that in these two figures of youth and age\, moral and physical 
 beauty\, active and passive intelligence\, he has indeed represented his o
 wn spirit\, symbolizing his dual nature.\n\n--Kenneth Clark\, Leonardo Da 
 Vinci\n\n&nbsp\;\n\n\nHow to join:\n\n 	Join this class from your Web brow
 ser: https://zoom.us/j/91019857324\, passcode 227385\n 	Join this class us
 ing the Zoom app: Meeting ID: 910 1985 7324\n 	Join this class by phone: 6
 69 900 9128 US (San Jose)\, Meeting ID: 910 1985 7324\n 	Join this class b
 y on-tap on mobile phones: +16699009128\,\,91019857324# US (San Jose)\n 	P
 honing in\, but not in the bay area?  Find your local number: https://zo
 om.us/u/abL8clvIYT\n\nThis is the Zoom link for Saturdays. For the Wednesd
 ay Zoom link\, go to the Calendar and click on a Wednesday session.\n\nQue
 stions? Drop an e-mail to resonant-reading+owner@uucpa.org.\n\n\n&nbsp\;\n
 \n*This activity was formerly called "Sacred Text Reading." That proved mi
 sleading--for one thing\, more often than not our sources are secular--but
  it's worth describing the qualities of a sacred text\, which we still loo
 k for in the readings we choose. It is any reading that helps us to:\n\n 	
 connect to something of supreme importance to us\n 	feel more connected to
  other beings or to the universe\n 	feel more intensely alive\n 	align our
  lives with our values\,\n 	perceive or feel more deeply\n 	be more fully 
 and authentically ourselves.\n 
ATTACH;FMTTYPE=image/jpeg:https://www.uucpa.org/wp-content/uploads/2023/09
 /Resonant-Reading.png
CATEGORIES:Adult,Learning,Ongoing Events,Small Groups
END:VEVENT
BEGIN:VTIMEZONE
TZID:America/Los_Angeles
X-LIC-LOCATION:America/Los_Angeles
BEGIN:DAYLIGHT
DTSTART:20250309T030000
TZOFFSETFROM:-0800
TZOFFSETTO:-0700
TZNAME:PDT
END:DAYLIGHT
END:VTIMEZONE
END:VCALENDAR