BEGIN:VCALENDAR
VERSION:2.0
PRODID:-//wp-events-plugin.com//7.2.2.1//EN
TZID:America/Los_Angeles
X-WR-TIMEZONE:America/Los_Angeles
BEGIN:VEVENT
UID:17136@uucpa.org
DTSTART;TZID=America/Los_Angeles:20250906T160000
DTEND;TZID=America/Los_Angeles:20250906T170000
DTSTAMP:20250831T223410Z
URL:https://www.uucpa.org/events/resonant-reading-saturday-2025-09-06/
SUMMARY:Resonant Reading (Saturday)-No Meeting Sept 6
DESCRIPTION:Resonant Reading (Saturday)-No Meeting Sept 6  An exploration o
 f ideas\, feelings\, and our life experiences\, using a different short re
 ading as our springboard each time. The sessions are on Saturdays\, 4-5\, 
 and on Wednesdays\, 12-1. All are wide open and you are welcome to come tw
 ice a week or once in a while.\n\nThe participants over the years have fou
 nd that the approach we take\, and the respectful\, affectionate community
  of inquirers in which we read and converse\, are as important as the read
 ing itself. While many small groups begin with a check-in\, with a session
  only an hour long\, Resonant Reading jumps right in to the conversation. 
 Those who are frequently in the group get to know each other very well thi
 s way\, and those who are new will soon find they are among friends.\n\n\n
 \nFacilitators use a light hand\, posting the reading in the chat and call
 ing on whoever's Zoom hand is up. Suggestions for readings* come from grou
 p members\, who also take turns facilitating\, if they want to try that ro
 le.\n\nThe reading for this session:\n\n\n&nbsp\;\n\n&nbsp\;\n\n\nHow to j
 oin:\n\n 	Join this class from your Web browser: https://zoom.us/j/9101985
 7324\, passcode 227385\n 	Join this class using the Zoom app: Meeting ID: 
 910 1985 7324\n 	Join this class by phone: 669 900 9128 US (San Jose)\, Me
 eting ID: 910 1985 7324\n 	Join this class by on-tap on mobile phones: +16
 699009128\,\,91019857324# US (San Jose)\n 	Phoning in\, but not in the bay
  area?  Find your local number: https://zoom.us/u/abL8clvIYT\n\nThis is 
 the Zoom link for Saturdays. For the Wednesday Zoom link\, go to the Calen
 dar and click on a Wednesday session.\n\nQuestions? Drop an e-mail to reso
 nant-reading+owner@uucpa.org.\n\n\n&nbsp\;\n\n*This activity was formerly 
 called "Sacred Text Reading." That proved misleading--for one thing\, more
  often than not our sources are secular--but it's worth describing the qua
 lities of a sacred text\, which we still look for in the readings we choos
 e. It is any reading that helps us to:\n\n 	connect to something of suprem
 e importance to us\n 	feel more connected to other beings or to the univer
 se\n 	feel more intensely alive\n 	align our lives with our values\,\n 	pe
 rceive or feel more deeply\n 	be more fully and authentically ourselves.\n
  
ATTACH;FMTTYPE=image/jpeg:https://www.uucpa.org/wp-content/uploads/2023/09
 /Resonant-Reading.png
CATEGORIES:Adult,Learning,Ongoing Events,Small Groups
END:VEVENT
BEGIN:VTIMEZONE
TZID:America/Los_Angeles
X-LIC-LOCATION:America/Los_Angeles
BEGIN:DAYLIGHT
DTSTART:20250309T030000
TZOFFSETFROM:-0800
TZOFFSETTO:-0700
TZNAME:PDT
END:DAYLIGHT
END:VTIMEZONE
END:VCALENDAR