BEGIN:VCALENDAR
VERSION:2.0
PRODID:-//wp-events-plugin.com//7.2.2.1//EN
TZID:America/Los_Angeles
X-WR-TIMEZONE:America/Los_Angeles
BEGIN:VEVENT
UID:17138@uucpa.org
DTSTART;TZID=America/Los_Angeles:20250920T160000
DTEND;TZID=America/Los_Angeles:20250920T170000
DTSTAMP:20250920T135935Z
URL:https://www.uucpa.org/events/resonant-reading-saturday-2025-09-20/
SUMMARY:Resonant Reading (Saturday)-Filippo Brunelleschi's Pazzi chapel
DESCRIPTION:Resonant Reading (Saturday)-Filippo Brunelleschi&#039\;s Pazzi 
 chapel  An exploration of ideas\, feelings\, and our life experiences\, us
 ing a different short reading as our springboard each time. The sessions a
 re on Saturdays\, 4-5\, and on Wednesdays\, 12-1. All are wide open and yo
 u are welcome to come twice a week or once in a while.\n\nThe participants
  over the years have found that the approach we take\, and the respectful\
 , affectionate community of inquirers in which we read and converse\, are 
 as important as the reading itself. While many small groups begin with a c
 heck-in\, with a session only an hour long\, Resonant Reading jumps right 
 in to the conversation. Those who are frequently in the group get to know 
 each other very well this way\, and those who are new will soon find they 
 are among friends.\n\n\n\nFacilitators use a light hand\, posting the read
 ing in the chat and calling on whoever's Zoom hand is up. Suggestions for 
 readings* come from group members\, who also take turns facilitating\, if 
 they want to try that role.\n\nThe reading for this session: Saturday\, S
 eptember 20th\nThe text is Filippo Brunelleschi's Pazzi chapel. We'll prim
 arily use the 1st photograph in this slide show\, but there are some more 
 photos we can look at in this slide show: https://docs.google.com/presenta
 tion/d/1_vuttQkhmt_xpQbyJbG0hU49EgWsVc2k/edit?usp=sharing&amp\;ouid=116798
 710757608222070&amp\;rtpof=true&amp\;sd=true\n\n&nbsp\;\n\n&nbsp\;\n\n\nHo
 w to join:\n\n 	Join this class from your Web browser: https://zoom.us/j/9
 1019857324\, passcode 227385\n 	Join this class using the Zoom app: Meetin
 g ID: 910 1985 7324\n 	Join this class by phone: 669 900 9128 US (San Jose
 )\, Meeting ID: 910 1985 7324\n 	Join this class by on-tap on mobile phone
 s: +16699009128\,\,91019857324# US (San Jose)\n 	Phoning in\, but not in t
 he bay area?  Find your local number: https://zoom.us/u/abL8clvIYT\n\nTh
 is is the Zoom link for Saturdays. For the Wednesday Zoom link\, go to the
  Calendar and click on a Wednesday session.\n\nQuestions? Drop an e-mail t
 o resonant-reading+owner@uucpa.org.\n\n\n&nbsp\;\n\n*This activity was for
 merly called "Sacred Text Reading." That proved misleading--for one thing\
 , more often than not our sources are secular--but it's worth describing t
 he qualities of a sacred text\, which we still look for in the readings we
  choose. It is any reading that helps us to:\n\n 	connect to something of 
 supreme importance to us\n 	feel more connected to other beings or to the 
 universe\n 	feel more intensely alive\n 	align our lives with our values\,
 \n 	perceive or feel more deeply\n 	be more fully and authentically oursel
 ves.\n 
ATTACH;FMTTYPE=image/jpeg:https://www.uucpa.org/wp-content/uploads/2023/09
 /Resonant-Reading.png
CATEGORIES:Adult,Learning,Ongoing Events,Small Groups
END:VEVENT
BEGIN:VTIMEZONE
TZID:America/Los_Angeles
X-LIC-LOCATION:America/Los_Angeles
BEGIN:DAYLIGHT
DTSTART:20250309T030000
TZOFFSETFROM:-0800
TZOFFSETTO:-0700
TZNAME:PDT
END:DAYLIGHT
END:VTIMEZONE
END:VCALENDAR