BEGIN:VCALENDAR
VERSION:2.0
PRODID:-//wp-events-plugin.com//7.2.2.1//EN
TZID:America/Los_Angeles
X-WR-TIMEZONE:America/Los_Angeles
BEGIN:VEVENT
UID:17145@uucpa.org
DTSTART;TZID=America/Los_Angeles:20251108T160000
DTEND;TZID=America/Los_Angeles:20251108T170000
DTSTAMP:20251103T165514Z
URL:https://www.uucpa.org/events/resonant-reading-saturday-2025-11-08/
SUMMARY:Resonant Reading (Saturday)-Readings on celestial and earthly marri
 age in Madame Bovary
DESCRIPTION:Resonant Reading (Saturday)-Readings on celestial and earthly m
 arriage in Madame Bovary  An exploration of ideas\, feelings\, and our lif
 e experiences\, using a different short reading as our springboard each ti
 me. The sessions are on Saturdays\, 4-5\, and on Wednesdays\, 12-1. All ar
 e wide open and you are welcome to come twice a week or once in a while.\n
 \nThe participants over the years have found that the approach we take\, a
 nd the respectful\, affectionate community of inquirers in which we read a
 nd converse\, are as important as the reading itself. While many small gro
 ups begin with a check-in\, with a session only an hour long\, Resonant Re
 ading jumps right in to the conversation. Those who are frequently in the 
 group get to know each other very well this way\, and those who are new wi
 ll soon find they are among friends.\n\n\n\nFacilitators use a light hand\
 , posting the reading in the chat and calling on whoever's Zoom hand is up
 . Suggestions for readings* come from group members\, who also take turns 
 facilitating\, if they want to try that role.\n\nThe reading for this sess
 ion:\nSaturday\, November 8th\n\nReadings on celestial and earthly marria
 ge in Madame Bovary\nAt age 13\, Emma Bovary is placed in a convent for sc
 hooling\nAt age 18\, Emma Bovary marries Charles Bovary\n\n&nbsp\;\n\n&nbs
 p\;\n\n\nHow to join:\n\n 	Join this class from your Web browser: https://
 zoom.us/j/91019857324\, passcode 227385\n 	Join this class using the Zoom 
 app: Meeting ID: 910 1985 7324\n 	Join this class by phone: 669 900 9128 U
 S (San Jose)\, Meeting ID: 910 1985 7324\n 	Join this class by on-tap on m
 obile phones: +16699009128\,\,91019857324# US (San Jose)\n 	Phoning in\, b
 ut not in the bay area?  Find your local number: https://zoom.us/u/abL8c
 lvIYT\n\nThis is the Zoom link for Saturdays. For the Wednesday Zoom link\
 , go to the Calendar and click on a Wednesday session.\n\nQuestions? Drop 
 an e-mail to resonant-reading+owner@uucpa.org.\n\n\n&nbsp\;\n\n*This activ
 ity was formerly called "Sacred Text Reading." That proved misleading--for
  one thing\, more often than not our sources are secular--but it's worth d
 escribing the qualities of a sacred text\, which we still look for in the 
 readings we choose. It is any reading that helps us to:\n\n 	connect to so
 mething of supreme importance to us\n 	feel more connected to other beings
  or to the universe\n 	feel more intensely alive\n 	align our lives with o
 ur values\,\n 	perceive or feel more deeply\n 	be more fully and authentic
 ally ourselves.\n 
ATTACH;FMTTYPE=image/jpeg:https://www.uucpa.org/wp-content/uploads/2023/09
 /Resonant-Reading.png
CATEGORIES:Adult,Learning,Ongoing Events,Small Groups
END:VEVENT
BEGIN:VTIMEZONE
TZID:America/Los_Angeles
X-LIC-LOCATION:America/Los_Angeles
BEGIN:STANDARD
DTSTART:20251102T010000
TZOFFSETFROM:-0700
TZOFFSETTO:-0800
TZNAME:PST
END:STANDARD
END:VTIMEZONE
END:VCALENDAR