BEGIN:VCALENDAR
VERSION:2.0
PRODID:-//wp-events-plugin.com//7.2.2.1//EN
TZID:America/Los_Angeles
X-WR-TIMEZONE:America/Los_Angeles
BEGIN:VEVENT
UID:17183@uucpa.org
DTSTART;TZID=America/Los_Angeles:20250827T120000
DTEND;TZID=America/Los_Angeles:20250827T130000
DTSTAMP:20250823T215341Z
URL:https://www.uucpa.org/events/resonant-reading-wednesday-2025-08-27/
SUMMARY:Resonant Reading (Wednesday) - Suzanne Lupien
DESCRIPTION:Resonant Reading (Wednesday) - Suzanne Lupien  An exploration o
 f ideas\, feelings\, and our life experiences\, using a different short re
 ading as our springboard each time. The sessions are on Saturdays\, 4-5\, 
 and on Wednesdays\, 12-1. All are wide open and you are welcome to come tw
 ice a week or once in a while.\n\nThe participants over the years have fou
 nd that the approach we take\, and the respectful\, affectionate community
  of inquirers in which we read and converse\, are as important as the read
 ing itself. While many small groups begin with a check-in\, with a session
  only an hour long\, Resonant Reading jumps right in to the conversation. 
 Those who are frequently in the group get to know each other very well thi
 s way\, and those who are new will soon find they are among friends.\n\n\n
 \nFacilitators use a light hand\, posting the reading in the chat and call
 ing on whoever's Zoom hand is up. Suggestions for readings* come from grou
 p members\, who also take turns facilitating\, if they want to try that ro
 le.\n\nThe reading for this session:\n\n\nReading from Suzanne Lupien\, 7
 0-year-old farmer of Harken Farm in Vershire\, Vermont.\nHarken Farm is a 
 traditional Vermont farm using only draft animal power\, no tractors\, pla
 stic or chemicals.\nhttps://www.youtube.com/watch?v=dxvkAA4SKTc\n&nbsp\;\n
 \nHow to join:\n\n\n\n 	Join this class from your Web browser: https://zoo
 m.us/j/96865808923\, passcode 227385\n 	Join this class using the Zoom app
 : Meeting ID: 968 6580 8923\n 	Join this class by phone: 669 900 6833 US (
 San Jose) Meeting ID: 968 6580 8923\n 	Join this class by one-tap on mobil
 e phones: 6699006833\,\,96865808923#  (San Jose)\n 	Phoning in\, but not 
 in the Bay Area?  Find your local number: https://zoom.us/u/abL8clvIYT\n\
 nThis is the Zoom link for Wednesdays. For the Zoom link for Saturday\, go
  to Calendar and click on a Saturday session.\n\n\nQuestions? Drop an e-ma
 il to resonant-reading+owner@uucpa.org.\n\n\n&nbsp\;\n\n*This activity was
  formerly called "Sacred Text Reading." That proved misleading--for one th
 ing\, more often than not our sources are secular--but it's worth describi
 ng the qualities of a sacred text\, which we still look for in the reading
 s we choose. It is any reading that helps us to:\n\n 	connect to something
  of supreme importance to us\n 	feel more connected to other beings or to 
 the universe\n 	feel more intensely alive\n 	align our lives with our valu
 es\,\n 	perceive or feel more deeply\n 	be more fully and authentically ou
 rselves.\n 
ATTACH;FMTTYPE=image/jpeg:https://www.uucpa.org/wp-content/uploads/2023/09
 /Resonant-Reading.png
CATEGORIES:Adult,Learning,Ongoing Events,Small Groups
END:VEVENT
BEGIN:VTIMEZONE
TZID:America/Los_Angeles
X-LIC-LOCATION:America/Los_Angeles
BEGIN:DAYLIGHT
DTSTART:20250309T030000
TZOFFSETFROM:-0800
TZOFFSETTO:-0700
TZNAME:PDT
END:DAYLIGHT
END:VTIMEZONE
END:VCALENDAR