BEGIN:VCALENDAR
VERSION:2.0
PRODID:-//wp-events-plugin.com//7.2.2.1//EN
TZID:America/Los_Angeles
X-WR-TIMEZONE:America/Los_Angeles
BEGIN:VEVENT
UID:17187@uucpa.org
DTSTART;TZID=America/Los_Angeles:20250924T120000
DTEND;TZID=America/Los_Angeles:20250924T130000
DTSTAMP:20250920T140151Z
URL:https://www.uucpa.org/events/resonant-reading-wednesday-2025-09-24/
SUMMARY:Resonant Reading (Wednesday)-Your Own Path-Campbell
DESCRIPTION:Resonant Reading (Wednesday)-Your Own Path-Campbell  An explora
 tion of ideas\, feelings\, and our life experiences\, using a different sh
 ort reading as our springboard each time. The sessions are on Saturdays\, 
 4-5\, and on Wednesdays\, 12-1. All are wide open and you are welcome to c
 ome twice a week or once in a while.\n\nThe participants over the years ha
 ve found that the approach we take\, and the respectful\, affectionate com
 munity of inquirers in which we read and converse\, are as important as th
 e reading itself. While many small groups begin with a check-in\, with a s
 ession only an hour long\, Resonant Reading jumps right in to the conversa
 tion. Those who are frequently in the group get to know each other very we
 ll this way\, and those who are new will soon find they are among friends.
 \n\n\n\nFacilitators use a light hand\, posting the reading in the chat an
 d calling on whoever's Zoom hand is up. Suggestions for readings* come fro
 m group members\, who also take turns facilitating\, if they want to try t
 hat role.\n\nThe reading for this session: Wednesday\, September 24th\n\nY
 ou enter the forest\nat the darkest point\,\nwhere there is no path.\nWher
 e there is a way or path\,\nit is someone else's path.\nYou are not on you
 r own path.\nIf you follow someone else's way\,\nyou are not going to real
 ize\nyour potential.\n―Joseph Campbell\, The Hero's Journey: Joseph Camp
 bell on His Life &amp\; Work\n\n\n&nbsp\;\n\n&nbsp\;\n\nHow to join:\n\n\n
 \n 	Join this class from your Web browser: https://zoom.us/j/96865808923\,
  passcode 227385\n 	Join this class using the Zoom app: Meeting ID: 968 65
 80 8923\n 	Join this class by phone: 669 900 6833 US (San Jose) Meeting ID
 : 968 6580 8923\n 	Join this class by one-tap on mobile phones: 6699006833
 \,\,96865808923#  (San Jose)\n 	Phoning in\, but not in the Bay Area?  F
 ind your local number: https://zoom.us/u/abL8clvIYT\n\nThis is the Zoom li
 nk for Wednesdays. For the Zoom link for Saturday\, go to Calendar and cli
 ck on a Saturday session.\n\n\nQuestions? Drop an e-mail to resonant-readi
 ng+owner@uucpa.org.\n\n\n&nbsp\;\n\n*This activity was formerly called "Sa
 cred Text Reading." That proved misleading--for one thing\, more often tha
 n not our sources are secular--but it's worth describing the qualities of 
 a sacred text\, which we still look for in the readings we choose. It is a
 ny reading that helps us to:\n\n 	connect to something of supreme importan
 ce to us\n 	feel more connected to other beings or to the universe\n 	feel
  more intensely alive\n 	align our lives with our values\,\n 	perceive or 
 feel more deeply\n 	be more fully and authentically ourselves.\n 
ATTACH;FMTTYPE=image/jpeg:https://www.uucpa.org/wp-content/uploads/2023/09
 /Resonant-Reading.png
CATEGORIES:Adult,Learning,Ongoing Events,Small Groups
END:VEVENT
BEGIN:VTIMEZONE
TZID:America/Los_Angeles
X-LIC-LOCATION:America/Los_Angeles
BEGIN:DAYLIGHT
DTSTART:20250309T030000
TZOFFSETFROM:-0800
TZOFFSETTO:-0700
TZNAME:PDT
END:DAYLIGHT
END:VTIMEZONE
END:VCALENDAR