BEGIN:VCALENDAR
VERSION:2.0
PRODID:-//wp-events-plugin.com//7.2.2.1//EN
TZID:America/Los_Angeles
X-WR-TIMEZONE:America/Los_Angeles
BEGIN:VEVENT
UID:17197@uucpa.org
DTSTART;TZID=America/Los_Angeles:20251203T120000
DTEND;TZID=America/Los_Angeles:20251203T130000
DTSTAMP:20251203T164722Z
URL:https://www.uucpa.org/events/resonant-reading-wednesday-2025-12-03/
SUMMARY:Resonant Reading (Wednesday)-No Meeting Today
DESCRIPTION:Resonant Reading (Wednesday)-No Meeting Today  An exploration o
 f ideas\, feelings\, and our life experiences\, using a different short re
 ading as our springboard each time. The sessions are on Saturdays\, 4-5\, 
 and on Wednesdays\, 12-1. All are wide open and you are welcome to come tw
 ice a week or once in a while.\n\nThe participants over the years have fou
 nd that the approach we take\, and the respectful\, affectionate community
  of inquirers in which we read and converse\, are as important as the read
 ing itself. While many small groups begin with a check-in\, with a session
  only an hour long\, Resonant Reading jumps right in to the conversation. 
 Those who are frequently in the group get to know each other very well thi
 s way\, and those who are new will soon find they are among friends.\n\n\n
 \nFacilitators use a light hand\, posting the reading in the chat and call
 ing on whoever's Zoom hand is up. Suggestions for readings* come from grou
 p members\, who also take turns facilitating\, if they want to try that ro
 le.\n\nThe reading for this session:\n\n\n&nbsp\;\n\nHow to join:\n\n\n\n 
 	Join this class from your Web browser: https://zoom.us/j/96865808923\, pa
 sscode 227385\n 	Join this class using the Zoom app: Meeting ID: 968 6580 
 8923\n 	Join this class by phone: 669 900 6833 US (San Jose) Meeting ID: 9
 68 6580 8923\n 	Join this class by one-tap on mobile phones: 6699006833\,\
 ,96865808923#  (San Jose)\n 	Phoning in\, but not in the Bay Area?  Find
  your local number: https://zoom.us/u/abL8clvIYT\n\nThis is the Zoom link 
 for Wednesdays. For the Zoom link for Saturday\, go to Calendar and click 
 on a Saturday session.\n\n\nQuestions? Drop an e-mail to resonant-reading+
 owner@uucpa.org.\n\n\n&nbsp\;\n\n*This activity was formerly called "Sacre
 d Text Reading." That proved misleading--for one thing\, more often than n
 ot our sources are secular--but it's worth describing the qualities of a s
 acred text\, which we still look for in the readings we choose. It is any 
 reading that helps us to:\n\n 	connect to something of supreme importance 
 to us\n 	feel more connected to other beings or to the universe\n 	feel mo
 re intensely alive\n 	align our lives with our values\,\n 	perceive or fee
 l more deeply\n 	be more fully and authentically ourselves.\n 
ATTACH;FMTTYPE=image/jpeg:https://www.uucpa.org/wp-content/uploads/2023/09
 /Resonant-Reading.png
CATEGORIES:Adult,Learning,Ongoing Events,Small Groups
END:VEVENT
BEGIN:VTIMEZONE
TZID:America/Los_Angeles
X-LIC-LOCATION:America/Los_Angeles
BEGIN:STANDARD
DTSTART:20251102T010000
TZOFFSETFROM:-0700
TZOFFSETTO:-0800
TZNAME:PST
END:STANDARD
END:VTIMEZONE
END:VCALENDAR