BEGIN:VCALENDAR
VERSION:2.0
PRODID:-//wp-events-plugin.com//7.2.2.1//EN
TZID:America/Los_Angeles
X-WR-TIMEZONE:America/Los_Angeles
BEGIN:VEVENT
UID:17212@uucpa.org
DTSTART;TZID=America/Los_Angeles:20260318T120000
DTEND;TZID=America/Los_Angeles:20260318T130000
DTSTAMP:20260314T213611Z
URL:https://www.uucpa.org/events/resonant-reading-wednesday-2026-03-18/
SUMMARY:Resonant Reading (Wednesday)-True Clarity-Saint Francis
DESCRIPTION:Resonant Reading (Wednesday)-True Clarity-Saint Francis  An exp
 loration of ideas\, feelings\, and our life experiences\, using a differen
 t short reading as our springboard each time. The sessions are on Saturday
 s\, 4-5\, and on Wednesdays\, 12-1. All are wide open and you are welcome 
 to come twice a week or once in a while.\n\nThe participants over the year
 s have found that the approach we take\, and the respectful\, affectionate
  community of inquirers in which we read and converse\, are as important a
 s the reading itself. While many small groups begin with a check-in\, with
  a session only an hour long\, Resonant Reading jumps right in to the conv
 ersation. Those who are frequently in the group get to know each other ver
 y well this way\, and those who are new will soon find they are among frie
 nds.\n\n\n\nFacilitators use a light hand\, posting the reading in the cha
 t and calling on whoever's Zoom hand is up. Suggestions for readings* come
  from group members\, who also take turns facilitating\, if they want to t
 ry that role.\n\nThe reading for this session: Wednesday\, March 18th\n\n
 Truly charity has no limit\; for the love of God has been poured into our 
 hearts by His Spirit dwelling in each one of us\, calling us to a life of 
 devotion and inviting us to bloom in the garden where He has planted and d
 irecting us to radiate the beauty and spread the fragrance of His Providen
 ce.\n—The Bishop of Geneva\, Saint Francis de Sales (1567-1622)\n\n\nHow
  to join:\n\n\n\n 	Join this class from your Web browser: https://zoom.us/
 j/96865808923\, passcode 227385\n 	Join this class using the Zoom app: Mee
 ting ID: 968 6580 8923\n 	Join this class by phone: 669 900 6833 US (San J
 ose) Meeting ID: 968 6580 8923\n 	Join this class by one-tap on mobile pho
 nes: 6699006833\,\,96865808923#  (San Jose)\n 	Phoning in\, but not in th
 e Bay Area?  Find your local number: https://zoom.us/u/abL8clvIYT\n\nThis
  is the Zoom link for Wednesdays. For the Zoom link for Saturday\, go to C
 alendar and click on a Saturday session.\n\n\nQuestions? Drop an e-mail to
  resonant-reading+owner@uucpa.org.\n\n\n&nbsp\;\n\n*This activity was form
 erly called "Sacred Text Reading." That proved misleading--for one thing\,
  more often than not our sources are secular--but it's worth describing th
 e qualities of a sacred text\, which we still look for in the readings we 
 choose. It is any reading that helps us to:\n\n 	connect to something of s
 upreme importance to us\n 	feel more connected to other beings or to the u
 niverse\n 	feel more intensely alive\n 	align our lives with our values\,\
 n 	perceive or feel more deeply\n 	be more fully and authentically ourselv
 es.\n 
ATTACH;FMTTYPE=image/jpeg:https://www.uucpa.org/wp-content/uploads/2023/09
 /Resonant-Reading.png
CATEGORIES:Adult,Learning,Ongoing Events,Small Groups
END:VEVENT
BEGIN:VTIMEZONE
TZID:America/Los_Angeles
X-LIC-LOCATION:America/Los_Angeles
BEGIN:DAYLIGHT
DTSTART:20260308T030000
TZOFFSETFROM:-0800
TZOFFSETTO:-0700
TZNAME:PDT
END:DAYLIGHT
END:VTIMEZONE
END:VCALENDAR