BEGIN:VCALENDAR
VERSION:2.0
PRODID:-//wp-events-plugin.com//7.2.2.1//EN
TZID:America/Los_Angeles
X-WR-TIMEZONE:America/Los_Angeles
BEGIN:VEVENT
UID:5842@uucpa.org
DTSTART;TZID=America/Los_Angeles:20190727T140000
DTEND;TZID=America/Los_Angeles:20190727T150000
DTSTAMP:20190610T142300Z
URL:https://www.uucpa.org/events/rev-erinn-melby-memorial-uu-church-of-dav
 is/
SUMMARY:Rev. Erinn Melby Memorial (@ UU Church of Davis)
DESCRIPTION:Rev. Erinn Melby Memorial (@ UU Church of Davis)  The Rev. Erin
 n Melby\, who was affiliated with UUCPA about 20 years ago\, died on May 1
 8. A celebration of her life will take place at 2 p.m. on Saturday\, July 
 27th\, 2019 at the UU Church of Davis\, 27074 Patwin Rd\, Davis\, CA 95616
 . Notes of condolences may be sent to Anna Strain at 8805 Acadia Road\, St
 . Paul\, MN 55125. 
CATEGORIES:Memorial,Offsite
LOCATION:UU Church of Davis
GEO:38.5453059;-121.79872499999999
X-APPLE-STRUCTURED-LOCATION;VALUE=URI;X-ADDRESS=27074 Patwin Rd\, Davis\, C
 A\, 95616\, United States;X-APPLE-RADIUS=100;X-TITLE=UU Church of Davis:ge
 o:38.5453059,-121.79872499999999
END:VEVENT
BEGIN:VTIMEZONE
TZID:America/Los_Angeles
X-LIC-LOCATION:America/Los_Angeles
BEGIN:DAYLIGHT
DTSTART:20190310T030000
TZOFFSETFROM:-0800
TZOFFSETTO:-0700
TZNAME:PDT
END:DAYLIGHT
END:VTIMEZONE
END:VCALENDAR