BEGIN:VCALENDAR
VERSION:2.0
PRODID:-//wp-events-plugin.com//7.2.2.1//EN
TZID:America/Los_Angeles
X-WR-TIMEZONE:America/Los_Angeles
BEGIN:VEVENT
UID:9426@uucpa.org
DTSTART;TZID=America/Los_Angeles:20210313T160000
DTEND;TZID=America/Los_Angeles:20210313T170000
DTSTAMP:20210216T173336Z
URL:https://www.uucpa.org/events/sacred-text-reading-group-2021-03-13/
SUMMARY:Sacred Text Reading Group
DESCRIPTION:Sacred Text Reading Group  \n\n\nA weekly online sacred text re
 ading group with Amy\n\nUsing a spiritual-practice approach\, in each sess
 ion we will explore a different brief scriptural text in depth. The aims o
 f the sessions are educational (learning something about the texts and tra
 ditions)\, spiritual/moral (discovering what the texts ask of us)\, and co
 mmunity-building (getting to know each other better). Amy will have a vers
 ion of the text available to share\; “bring” your own if you like. All
  are welcome\, as are your suggestions of future texts. About half our rea
 dings so far have been those suggested by group members.\n\n\nOn Saturday\
 , March 13\, we'll read Number 37 from the Tao te Ching:\n\n\n\nTao abides
  in non-action\,\nYet nothing is left undone.\nIf kings and lords observed
  this\,\nThe ten thousand things would develop naturally.\nIf they still d
 esired to act\,\nThey would return to the simplicity of formless substance
 .\nWithout form there is no desire.\nWithout desire there is tranquillity.
 \nAnd in this way all things would be at peace.\n\n\nThe above is the Feng
  &amp\; English translation. You can see other translations of the same pa
 ssage here.\n\n\n\n\nHow to join:\n\n 	Join this class from your Web brows
 er: https://zoom.us/j/578882781\n 	Join this class using the Zoom app: Mee
 ting ID: 578 882 781\n 	Join this class by phone: 669 900 9128 US (San Jos
 e)\, Meeting ID: 578 882 781\n 	Join this class by on-tap on mobile phones
 : +16699009128\,\,578882781# US (San Jose)\n 	Phoning in\, but not in the 
 bay area?  Find your local number: https://zoom.us/u/abL8clvIYT\n\n\n\n\
 n\n 
ATTACH;FMTTYPE=image/jpeg:https://www.uucpa.org/wp-content/uploads/2020/03
 /Online-Sacred-Texts-Reading-Group.png
CATEGORIES:Adult,Classes,Learning,Small Groups
END:VEVENT
BEGIN:VTIMEZONE
TZID:America/Los_Angeles
X-LIC-LOCATION:America/Los_Angeles
BEGIN:STANDARD
DTSTART:20201101T010000
TZOFFSETFROM:-0700
TZOFFSETTO:-0800
TZNAME:PST
END:STANDARD
END:VTIMEZONE
END:VCALENDAR