BEGIN:VCALENDAR
VERSION:2.0
PRODID:-//wp-events-plugin.com//7.2.2.1//EN
TZID:America/Los_Angeles
X-WR-TIMEZONE:America/Los_Angeles
BEGIN:VEVENT
UID:9427@uucpa.org
DTSTART;TZID=America/Los_Angeles:20210320T160000
DTEND;TZID=America/Los_Angeles:20210320T170000
DTSTAMP:20210313T004217Z
URL:https://www.uucpa.org/events/sacred-text-reading-group-2021-03-20/
SUMMARY:Sacred Text Reading Group
DESCRIPTION:Sacred Text Reading Group  \n\n\nA weekly online sacred text re
 ading group with Amy\n\nUsing a spiritual-practice approach\, in each sess
 ion we will explore a different brief scriptural text in depth. The aims o
 f the sessions are educational (learning something about the texts and tra
 ditions)\, spiritual/moral (discovering what the texts ask of us)\, and co
 mmunity-building (getting to know each other better). Amy will have a vers
 ion of the text available to share\; “bring” your own if you like. All
  are welcome\, as are your suggestions of future texts. About half our rea
 dings so far have been those suggested by group members.\n\n\nAmy says: Sa
 turday\, March 20 is a great day to join me for the first time: it is our 
 50th session!\n\nThe text comes from My Grandfather's Blessings by Rachel 
 Naomi Remen\, M.D.:\n\n\n“Perhaps real wisdom lies in not seeking answer
 s at all. Any answer we find will not be true for long. An answer is a pla
 ce where we can fall asleep as life moves past us to its next question. Af
 ter all these years I have begun to wonder if the secret of living well is
  not in having all the answers but in pursuing unanswerable questions in g
 ood company.”\n\n\n\nHow to join:\n\n 	Join this class from your Web bro
 wser: https://zoom.us/j/578882781\n 	Join this class using the Zoom app: M
 eeting ID: 578 882 781\n 	Join this class by phone: 669 900 9128 US (San J
 ose)\, Meeting ID: 578 882 781\n 	Join this class by on-tap on mobile phon
 es: +16699009128\,\,578882781# US (San Jose)\n 	Phoning in\, but not in th
 e bay area?  Find your local number: https://zoom.us/u/abL8clvIYT\n\n\n\
 n\n\n 
ATTACH;FMTTYPE=image/jpeg:https://www.uucpa.org/wp-content/uploads/2020/03
 /Online-Sacred-Texts-Reading-Group.png
CATEGORIES:Adult,Classes,Learning,Small Groups
END:VEVENT
BEGIN:VTIMEZONE
TZID:America/Los_Angeles
X-LIC-LOCATION:America/Los_Angeles
BEGIN:DAYLIGHT
DTSTART:20210314T030000
TZOFFSETFROM:-0800
TZOFFSETTO:-0700
TZNAME:PDT
END:DAYLIGHT
END:VTIMEZONE
END:VCALENDAR