BEGIN:VCALENDAR
VERSION:2.0
PRODID:-//wp-events-plugin.com//7.2.2.1//EN
TZID:America/Los_Angeles
X-WR-TIMEZONE:America/Los_Angeles
BEGIN:VEVENT
UID:9436@uucpa.org
DTSTART;TZID=America/Los_Angeles:20210522T160000
DTEND;TZID=America/Los_Angeles:20210522T170000
DTSTAMP:20210521T232153Z
URL:https://www.uucpa.org/events/sacred-text-reading-group-2021-05-22/
SUMMARY:Sacred Text Reading Group
DESCRIPTION:Sacred Text Reading Group  \n\n\nA weekly online sacred text re
 ading group with Amy\n\nUsing a spiritual-practice approach\, in each sess
 ion we will explore a different brief scriptural text in depth. The aims o
 f the sessions are educational (learning something about the texts and tra
 ditions)\, spiritual/moral (discovering what the texts ask of us)\, and co
 mmunity-building (getting to know each other better). Amy will have a vers
 ion of the text available to share\; “bring” your own if you like. All
  are welcome\, as are your suggestions of future texts. About half our rea
 dings so far have been those suggested by group members.\n\n\nOn Saturday\
 , May 22\, 2021\, our text is an excerpt from Wendell Berry's preface to T
 he Way of Ignorance:\n&nbsp\;\n. . . Our ignorance ultimately is irremedia
 ble. . . . Some problems are unsolvable and some questions unanswerable...
 do what we will\, we are never going to be free of mortality\, partiality\
 , fallibility\, and error. The extent of our knowledge will always be\, at
  the same time\, the measure of our ignorance.\nBecause ignorance is thus 
 a part of our creaturely definition\, we need an appropriate way: a way of
  ignorance\, which is the way of neighborly love\, kindness\, caution\, ca
 re\, appropriate scale\, thrift\, good work\, right livelihood. Creatures 
 who have armed themselves with the power of limitless destruction should n
 ot be following any way laid out by their limited knowledge and their unse
 emly pride in it.\nThe way of ignorance\, therefore\, is to be careful\, t
 o know the limits and the efficacy of our knowledge. It is to be humble an
 d to work on an appropriate scale.\n\n\n\n\n\nHow to join:\n\n 	Join this 
 class from your Web browser: https://zoom.us/j/578882781\n 	Join this clas
 s using the Zoom app: Meeting ID: 578 882 781\n 	Join this class by phone:
  669 900 9128 US (San Jose)\, Meeting ID: 578 882 781\n 	Join this class b
 y on-tap on mobile phones: +16699009128\,\,578882781# US (San Jose)\n 	Pho
 ning in\, but not in the bay area?  Find your local number: https://zoom
 .us/u/abL8clvIYT\n\n\n\n\n\n 
ATTACH;FMTTYPE=image/jpeg:https://www.uucpa.org/wp-content/uploads/2020/03
 /Online-Sacred-Texts-Reading-Group.png
CATEGORIES:Adult,Classes,Learning,Small Groups
END:VEVENT
BEGIN:VTIMEZONE
TZID:America/Los_Angeles
X-LIC-LOCATION:America/Los_Angeles
BEGIN:DAYLIGHT
DTSTART:20210314T030000
TZOFFSETFROM:-0800
TZOFFSETTO:-0700
TZNAME:PDT
END:DAYLIGHT
END:VTIMEZONE
END:VCALENDAR