BEGIN:VCALENDAR
VERSION:2.0
PRODID:-//wp-events-plugin.com//7.2.2.1//EN
TZID:America/Los_Angeles
X-WR-TIMEZONE:America/Los_Angeles
BEGIN:VEVENT
UID:9441@uucpa.org
DTSTART;TZID=America/Los_Angeles:20210626T160000
DTEND;TZID=America/Los_Angeles:20210626T170000
DTSTAMP:20210626T195704Z
URL:https://www.uucpa.org/events/sacred-text-reading-group-2021-06-26/
SUMMARY:Sacred Text Reading Group
DESCRIPTION:Sacred Text Reading Group  \n\n\nA weekly online sacred text re
 ading group with Amy\n\nUsing a spiritual-practice approach\, in each sess
 ion we will explore a different brief scriptural text in depth. The aims o
 f the sessions are educational (learning something about the texts and tra
 ditions)\, spiritual/moral (discovering what the texts ask of us)\, and co
 mmunity-building (getting to know each other better). Amy will have a vers
 ion of the text available to share\; “bring” your own if you like. All
  are welcome\, as are your suggestions of future texts. About half our rea
 dings so far have been those suggested by group members.\n\n\nThe reading 
 for Saturday\, June 26\, 2021\, picks up where we left off a few weeks ago
 \, when we read "The Seashell" from William Wordsworth's long poem The Exc
 ursion. The next few lines are:\n\n\n\n                 
        Here you stand\, \nAdore\, and worship\, when you know it not
 \; \nPious beyond the intention of your thought\; \nDevout above the meani
 ng of your will. \n—Yes\, you have felt\, and may not cease to feel.\n\n
 &nbsp\;\n\n\n\nHow to join:\n\n 	Join this class from your Web browser: ht
 tps://zoom.us/j/578882781\n 	Join this class using the Zoom app: Meeting I
 D: 578 882 781\n 	Join this class by phone: 669 900 9128 US (San Jose)\, M
 eeting ID: 578 882 781\n 	Join this class by on-tap on mobile phones: +166
 99009128\,\,578882781# US (San Jose)\n 	Phoning in\, but not in the bay ar
 ea?  Find your local number: https://zoom.us/u/abL8clvIYT\n\n\n\n\n\n 
ATTACH;FMTTYPE=image/jpeg:https://www.uucpa.org/wp-content/uploads/2020/03
 /Online-Sacred-Texts-Reading-Group.png
CATEGORIES:Adult,Classes,Learning,Small Groups
END:VEVENT
BEGIN:VTIMEZONE
TZID:America/Los_Angeles
X-LIC-LOCATION:America/Los_Angeles
BEGIN:DAYLIGHT
DTSTART:20210314T030000
TZOFFSETFROM:-0800
TZOFFSETTO:-0700
TZNAME:PDT
END:DAYLIGHT
END:VTIMEZONE
END:VCALENDAR