BEGIN:VCALENDAR
VERSION:2.0
PRODID:-//wp-events-plugin.com//7.2.2.1//EN
TZID:America/Los_Angeles
X-WR-TIMEZONE:America/Los_Angeles
BEGIN:VEVENT
UID:10641@uucpa.org
DTSTART;TZID=America/Los_Angeles:20220618T160000
DTEND;TZID=America/Los_Angeles:20220618T170000
DTSTAMP:20220615T213419Z
URL:https://www.uucpa.org/events/sacred-text-reading-group-2022-06-18/
SUMMARY:Sacred Text Reading Group (Saturday)
DESCRIPTION:Sacred Text Reading Group (Saturday)  \n\n\nA twice-weekly onli
 ne sacred text reading group. We meet on Saturdays\, 4-5\, and on Wednesda
 ys\, 12-1. All are wide open and you are welcome!\n\nUsing a spiritual-pra
 ctice approach\, in each session we will explore a different brief scriptu
 ral text in depth. The aims of the sessions are educational (learning some
 thing about the texts and traditions)\, spiritual/moral (discovering what 
 the texts ask of us)\, and community-building (getting to know each other 
 better). Our practice usually follows this version of Lectio Divina.\n\nTh
 e facilitator will have a version of the text available to share\; “brin
 g” your own if you like. All are welcome\, as are your suggestions of fu
 ture texts. Group members also take turns facilitating\, if they want to t
 ry that role.\n\n\nOur text for Saturday\, June 18\, 2022\, is from the 20
 th century mystic Simone Weil (quoted by D. Avery in Beyond Power: Simone 
 Weil and the Notion of Authority\, p. 151)\n[The soul] can believe it know
 s\, but believing is not knowing. Such believing does not help. The soul k
 nows for certain only that it is hungry. The important thing is to cry out
  in its hunger. A child does not stop crying if one suggests that perhaps 
 there is no bread. It cries just the same.\n\nThe danger is not that the s
 oul should doubt whether or not there is bread\, but that it should persua
 de itself by lying that it is not hungry. It can only persuade itself of t
 his by lying because the reality of its hunger is not a belief but a certa
 inty.\n\n\n\nTo have check-in time\, or if you are new and would like a br
 ief orientation\, arrive ten minutes early. And all are welcome to stay te
 n minutes after as well\, for more getting-acquainted time.\n\n\nHow to jo
 in:\n\n 	Join this class from your Web browser: https://zoom.us/j/57888278
 1\n 	Join this class using the Zoom app: Meeting ID: 578 882 781\n 	Join t
 his class by phone: 669 900 9128 US (San Jose)\, Meeting ID: 578 882 781\n
  	Join this class by on-tap on mobile phones: +16699009128\,\,578882781# U
 S (San Jose)\n 	Phoning in\, but not in the bay area?  Find your local nu
 mber: https://zoom.us/u/abL8clvIYT\n\n\n\n\n\n 
ATTACH;FMTTYPE=image/jpeg:https://www.uucpa.org/wp-content/uploads/2020/03
 /Online-Sacred-Texts-Reading-Group.png
CATEGORIES:Adult,Classes,Learning,Small Groups
END:VEVENT
BEGIN:VTIMEZONE
TZID:America/Los_Angeles
X-LIC-LOCATION:America/Los_Angeles
BEGIN:DAYLIGHT
DTSTART:20220313T030000
TZOFFSETFROM:-0800
TZOFFSETTO:-0700
TZNAME:PDT
END:DAYLIGHT
END:VTIMEZONE
END:VCALENDAR