BEGIN:VCALENDAR
VERSION:2.0
PRODID:-//wp-events-plugin.com//7.2.2.1//EN
TZID:America/Los_Angeles
X-WR-TIMEZONE:America/Los_Angeles
BEGIN:VEVENT
UID:9675@uucpa.org
DTSTART;TZID=America/Los_Angeles:20210814T160000
DTEND;TZID=America/Los_Angeles:20210814T170000
DTSTAMP:20210812T040206Z
URL:https://www.uucpa.org/events/sacred-text-reading-group-9/
SUMMARY:Sacred Text Reading Group
DESCRIPTION:Sacred Text Reading Group  \n\n\nA weekly online sacred text re
 ading group with Amy\n\nUsing a spiritual-practice approach\, in each sess
 ion we will explore a different brief scriptural text in depth. The aims o
 f the sessions are educational (learning something about the texts and tra
 ditions)\, spiritual/moral (discovering what the texts ask of us)\, and co
 mmunity-building (getting to know each other better). Amy will have a vers
 ion of the text available to share\; “bring” your own if you like. All
  are welcome\, as are your suggestions of future texts. About half our rea
 dings so far have been those suggested by group members.\n\n\nOur text for
  Saturday\, August 14\, 2021\, is from Rabbi Hillel\, in the tractate of t
 he Talmud called Pirkei Avot (Chapters of the Ancestors)\, 1:14.\n\n\n\n\n
 If I am not for myself\, who will be for me? \nAnd if I am only for myself
 \, what am I? \nAnd if not now\, when?\n\n\n\n\nIf you're new (either to U
 UCPA or to the group) and would like to get acquainted\, Amy and whichever
  group members can manage it will be there ten minutes early and will also
  stay afterwards--we'd love to have a little getting-to-know-you time.\n\n
 How to join:\n\n 	Join this class from your Web browser: https://zoom.us/j
 /578882781\n 	Join this class using the Zoom app: Meeting ID: 578 882 781\
 n 	Join this class by phone: 669 900 9128 US (San Jose)\, Meeting ID: 578 
 882 781\n 	Join this class by on-tap on mobile phones: +16699009128\,\,578
 882781# US (San Jose)\n 	Phoning in\, but not in the bay area?  Find your
  local number: https://zoom.us/u/abL8clvIYT\n\n\n\n\n\n 
ATTACH;FMTTYPE=image/jpeg:https://www.uucpa.org/wp-content/uploads/2020/03
 /Online-Sacred-Texts-Reading-Group.png
CATEGORIES:Adult,Classes,Learning,Small Groups
END:VEVENT
BEGIN:VTIMEZONE
TZID:America/Los_Angeles
X-LIC-LOCATION:America/Los_Angeles
BEGIN:DAYLIGHT
DTSTART:20210314T030000
TZOFFSETFROM:-0800
TZOFFSETTO:-0700
TZNAME:PDT
END:DAYLIGHT
END:VTIMEZONE
END:VCALENDAR