BEGIN:VCALENDAR
VERSION:2.0
PRODID:-//wp-events-plugin.com//7.2.2.1//EN
TZID:America/Los_Angeles
X-WR-TIMEZONE:America/Los_Angeles
BEGIN:VEVENT
UID:8404@uucpa.org
DTSTART;TZID=America/Los_Angeles:20200829T160000
DTEND;TZID=America/Los_Angeles:20200829T170000
DTSTAMP:20200828T230251Z
URL:https://www.uucpa.org/events/sacred-text-reading-group-via-video-confe
 rence-2-2020-08-29/
SUMMARY:Sacred Text Reading Group (via Video Conference)
DESCRIPTION:Sacred Text Reading Group (via Video Conference)  \n\nA weekly 
 online sacred text reading group. At the moment\, we are using a very well
 -traveled practice called lectio divina\, which takes numerous forms--our 
 approach is outlined in this document.\n\nWith that practice as our guide\
 , during each session we explore a different brief scriptural text in dept
 h. The aims of the sessions are educational (learning something about the 
 texts and traditions)\, spiritual/moral (discovering what the texts ask of
  us)\, and community-building (getting to know each other better). Amy wil
 l have a version of the text available to share\; "bring" your own if you 
 like. All are welcome\, as are your suggestions of future texts.\n\n\nOn S
 aturday\, August 29\, we're focusing in on a very small snippet of text. A
 ppropriately for Water Communion weekend\, we'll be diving into this quatr
 ain from Robert Frost's poem "Going for Water."\nEach laid on other a stay
 ing hand\n\nTo listen ere we dared to look\,\n\nAnd in the hush we joined 
 to make\n\nWe heard\, we knew we heard the brook.\nFor context\, you can r
 ead the full poem here.\n\n\n\n&nbsp\;\n\nHow to join:\n\n 	Join this clas
 s from your Web browser: https://zoom.us/j/578882781\n 	Join this class us
 ing the Zoom app: Meeting ID: 578 882 781\n 	Join this class by phone: 669
  900 9128 US (San Jose)\, Meeting ID: 578 882 781\n 	Join this class by on
 -tap on mobile phones: +16699009128\,\,578882781# US (San Jose)\n 	Phoning
  in\, but not in the bay area?  Find your local number: https://zoom.us/
 u/abL8clvIYT\n\n\n\n\n\n 
ATTACH;FMTTYPE=image/jpeg:https://www.uucpa.org/wp-content/uploads/2020/03
 /Online-Sacred-Texts-Reading-Group.png
END:VEVENT
BEGIN:VTIMEZONE
TZID:America/Los_Angeles
X-LIC-LOCATION:America/Los_Angeles
BEGIN:DAYLIGHT
DTSTART:20200308T030000
TZOFFSETFROM:-0800
TZOFFSETTO:-0700
TZNAME:PDT
END:DAYLIGHT
END:VTIMEZONE
END:VCALENDAR