BEGIN:VCALENDAR
VERSION:2.0
PRODID:-//wp-events-plugin.com//7.2.2.1//EN
TZID:America/Los_Angeles
X-WR-TIMEZONE:America/Los_Angeles
BEGIN:VEVENT
UID:8874@uucpa.org
DTSTART;TZID=America/Los_Angeles:20201010T160000
DTEND;TZID=America/Los_Angeles:20201010T170000
DTSTAMP:20201004T053400Z
URL:https://www.uucpa.org/events/sacred-text-reading-group-via-video-confe
 rence-2-2020-10-10/
SUMMARY:Sacred Text Reading Group
DESCRIPTION:Sacred Text Reading Group  \n\nA weekly online sacred text read
 ing group with Reverend Amy\n\nUsing a spiritual-practice approach\, in ea
 ch session we will explore a different brief scriptural text in depth. The
  aims of the sessions are educational (learning something about the texts 
 and traditions)\, spiritual/moral (discovering what the texts ask of us)\,
  and community-building (getting to know each other better). I'll have a v
 ersion of the text available to share\; "bring" your own if you like. All 
 are welcome\, as are your suggestions of future texts.\n\n\nOn Saturday\, 
 October 10\, our text will be Psalm 13\, one of the psalms of lament in th
 e Bible--so appropriate in a time of so many worries and sorrows. Here are
  a few translations:\n\nNew Revised Standard Version\n\nKing James Version
 \n\nNew International Version\n\n\n\n&nbsp\;\n\nHow to join:\n\n 	Join thi
 s class from your Web browser: https://zoom.us/j/578882781\n 	Join this cl
 ass using the Zoom app: Meeting ID: 578 882 781\n 	Join this class by phon
 e: 669 900 9128 US (San Jose)\, Meeting ID: 578 882 781\n 	Join this class
  by on-tap on mobile phones: +16699009128\,\,578882781# US (San Jose)\n 	P
 honing in\, but not in the bay area?  Find your local number: https://zo
 om.us/u/abL8clvIYT\n\n\n\n\n\n 
ATTACH;FMTTYPE=image/jpeg:https://www.uucpa.org/wp-content/uploads/2020/03
 /Online-Sacred-Texts-Reading-Group.png
END:VEVENT
BEGIN:VTIMEZONE
TZID:America/Los_Angeles
X-LIC-LOCATION:America/Los_Angeles
BEGIN:DAYLIGHT
DTSTART:20200308T030000
TZOFFSETFROM:-0800
TZOFFSETTO:-0700
TZNAME:PDT
END:DAYLIGHT
END:VTIMEZONE
END:VCALENDAR