BEGIN:VCALENDAR
VERSION:2.0
PRODID:-//wp-events-plugin.com//7.2.2.1//EN
TZID:America/Los_Angeles
X-WR-TIMEZONE:America/Los_Angeles
BEGIN:VEVENT
UID:7954@uucpa.org
DTSTART;TZID=America/Los_Angeles:20200418T160000
DTEND;TZID=America/Los_Angeles:20200418T170000
DTSTAMP:20200411T231934Z
URL:https://www.uucpa.org/events/sacred-text-reading-group-via-video-confe
 rence-2020-04-18/
SUMMARY:Sacred Text Reading Group (via Video Conference)
DESCRIPTION:Sacred Text Reading Group (via Video Conference)  \n\nSaturday\
 , April 18: Acts 17:16-34\n\nDid you know Paul went to Athens and spoke wi
 th the Greek philosophers in the marketplace? This passage talks about how
  it went and suggests some possibilities for cross-religious dialogue.\n\n
 A weekly online sacred text reading group with Reverend Amy\n\nUsing a spi
 ritual-practice approach\, in each session we will explore a different bri
 ef scriptural text in depth. The aims of the sessions are educational (lea
 rning something about the texts and traditions)\, spiritual/moral (discove
 ring what the texts ask of us)\, and community-building (getting to know e
 ach other better). I'll have a version of the text available to share\; "b
 ring" your own if you like. All are welcome\, as are your suggestions of f
 uture texts.\n\n\nHow to join:\n\n 	Join this class from your Web browser:
  https://zoom.us/j/578882781\n 	Join this class using the Zoom app: Meetin
 g ID: 578 882 781\n 	Join this class by phone: 669 900 9128 US (San Jose)\
 , Meeting ID: 578 882 781\n 	Join this class by on-tap on mobile phones: +
 16699009128\,\,578882781# US (San Jose)\n 	Phoning in\, but not in the bay
  area?  Find your local number: https://zoom.us/u/abL8clvIYT\n\n\n\n\n\n
  
ATTACH;FMTTYPE=image/jpeg:https://www.uucpa.org/wp-content/uploads/2020/03
 /Online-Sacred-Texts-Reading-Group.png
CATEGORIES:Classes
END:VEVENT
BEGIN:VTIMEZONE
TZID:America/Los_Angeles
X-LIC-LOCATION:America/Los_Angeles
BEGIN:DAYLIGHT
DTSTART:20200308T030000
TZOFFSETFROM:-0800
TZOFFSETTO:-0700
TZNAME:PDT
END:DAYLIGHT
END:VTIMEZONE
END:VCALENDAR